BEGIN:VCALENDAR
PRODID:-//PUBBLE//enter agenda//NL
VERSION:2.0
METHOD:PUBLISH
BEGIN:VEVENT
DTSTART:20260420T050100Z
DTEND:20261130T060100Z
DTSTAMP:20260424T103704Z
UID:64087fa0-3a1c-4678-bee3-a742a0648dd2
CREATED:20260424T103704Z
URL:https://www.weespfoto.nl/agenda/item/373047
NAME:Samen eten en  samen koken weespfoto.nl
X-WR-CALNAME:Samen eten en  samen koken weespfoto.nl
X-ALT-DESC;FMTTYPE=text/html:<a href='https://www.weespfoto.nl/agenda/item//373047'>https://weespfoto.nl/agenda/item//373047</a> || <p>Samen eten en samen koken als je dat leuk vind . Lachen en genieten van 3 gangen maaltijd &nbsp;voor €8,50 ( excl drankjes) en nieuwe ontmoetingen. We sluiten de avond gezellig af met een kopje koffie /thee van het huis. Meld je aan via <a href="mailto:Soov@vivium.nl">Soov@vivium.nl</a> of &nbsp;035-6924949</p>
DESCRIPTION:<a href='https://www.weespfoto.nl/agenda/item//373047'>https://www.weespfoto.nl/agenda/item//373047</a> || Samen eten en samen koken als je dat leuk vind . Lachen en genieten van 3 gangen maaltijd  voor €8,50 ( excl drankjes) en nieuwe ontmoetingen. We sluiten de avond gezellig af met een kopje koffie /thee van het huis. Meld je aan via Soov@vivium.nl of  035-6924949
LAST-MODIFIED:20260424T103704Z
LOCATION:SOOV Lange Heul 32 1403nl Bussum
SEQUENCE:0
STATUS:CONFIRMED
SUMMARY:Samen eten en  samen koken
TRANSP:OPAQUE
END:VEVENT
END:VCALENDAR
