BEGIN:VCALENDAR
PRODID:-//PUBBLE//enter agenda//NL
VERSION:2.0
METHOD:PUBLISH
BEGIN:VEVENT
DTSTART:20260428T160000Z
DTEND:20260528T180000Z
DTSTAMP:20260423T093932Z
UID:7fb7dd92-b229-4bc9-9bcc-9ebc633c4771
CREATED:20260423T093932Z
URL:https://www.weespfoto.nl/agenda/item/373071
NAME:Jodenjagers in het Gooi weespfoto.nl
X-WR-CALNAME:Jodenjagers in het Gooi weespfoto.nl
X-ALT-DESC;FMTTYPE=text/html:<a href='https://www.weespfoto.nl/agenda/item//373071'>https://weespfoto.nl/agenda/item//373071</a> || <p>Ad van Liempt o.a. maker van TV serie Andere Tijden maakte voor zijn het boek ‘Kopgeld’ een studie van de groep mannen die jacht maakte op onderduikers en voor elke gearresteerde 7,50 gulden kregen. Zij hebben bijna negenduizend slachtoffers voor deportatie bij de nazi’s ingeleverd. Toegang €10 </p>
DESCRIPTION:<a href='https://www.weespfoto.nl/agenda/item//373071'>https://www.weespfoto.nl/agenda/item//373071</a> || Ad van Liempt o.a. maker van TV serie Andere Tijden maakte voor zijn het boek ‘Kopgeld’ een studie van de groep mannen die jacht maakte op onderduikers en voor elke gearresteerde 7,50 gulden kregen. Zij hebben bijna negenduizend slachtoffers voor deportatie bij de nazi’s ingeleverd. Toegang €10 
LAST-MODIFIED:20260423T093932Z
LOCATION:Apostolisch Genootschap Meulenwiekelaan 49 1402tc Bussum
SEQUENCE:0
STATUS:CONFIRMED
SUMMARY:Jodenjagers in het Gooi
TRANSP:OPAQUE
END:VEVENT
END:VCALENDAR
