BEGIN:VCALENDAR
PRODID:-//PUBBLE//enter agenda//NL
VERSION:2.0
METHOD:PUBLISH
BEGIN:VEVENT
DTSTART:20260501T060000Z
DTEND:20260501T080000Z
DTSTAMP:20260423T214943Z
UID:43aa0086-8060-4909-83cb-3d2cbb01d993
CREATED:20260423T214943Z
URL:https://www.weespfoto.nl/agenda/item/373112
NAME:Leo Gestel weespfoto.nl
X-WR-CALNAME:Leo Gestel weespfoto.nl
X-ALT-DESC;FMTTYPE=text/html:<a href='https://www.weespfoto.nl/agenda/item//373112'>https://weespfoto.nl/agenda/item//373112</a> || <p>De Bussumse documentairemaakster Annet Betsalel houdt een pleidooi om Leo Gestel uit de schaduw van Mondriaan, Sluijters en Van Dongen te halen. In de lezing wordt het bijzondere werk van deze modernist in de Nederlandse schilderkunst met hoogtepunten uit zijn werk toegelicht.</p>
DESCRIPTION:<a href='https://www.weespfoto.nl/agenda/item//373112'>https://www.weespfoto.nl/agenda/item//373112</a> || De Bussumse documentairemaakster Annet Betsalel houdt een pleidooi om Leo Gestel uit de schaduw van Mondriaan, Sluijters en Van Dongen te halen. In de lezing wordt het bijzondere werk van deze modernist in de Nederlandse schilderkunst met hoogtepunten uit zijn werk toegelicht.
LAST-MODIFIED:20260423T214943Z
LOCATION:Bibliotheek Gooi+ Bussum Wilhelminaplantsoen 18 1404jb Bussum
SEQUENCE:0
STATUS:CONFIRMED
SUMMARY:Leo Gestel
TRANSP:OPAQUE
END:VEVENT
END:VCALENDAR
