BEGIN:VCALENDAR
PRODID:-//PUBBLE//enter agenda//NL
VERSION:2.0
METHOD:PUBLISH
BEGIN:VEVENT
DTSTART:20260421T084900Z
DTEND:20261221T094900Z
DTSTAMP:20260424T024018Z
UID:e6a9d884-746c-4145-a061-05f96c395964
CREATED:20260424T024018Z
URL:https://www.weespfoto.nl/agenda/item/373158
NAME:Leefstijlpunt Gooise Meren weespfoto.nl
X-WR-CALNAME:Leefstijlpunt Gooise Meren weespfoto.nl
X-ALT-DESC;FMTTYPE=text/html:<a href='https://www.weespfoto.nl/agenda/item//373158'>https://weespfoto.nl/agenda/item//373158</a> || <p>Het Leefstijlpunt Gooise Meren heeft meerdere locaties waar je terecht kunt met vragen over (hersen)gezondheid, sociale activiteiten, sport en bewegen, (digitale) hulp en ondersteuning en nog veel meer over leefstijl.</p>
DESCRIPTION:<a href='https://www.weespfoto.nl/agenda/item//373158'>https://www.weespfoto.nl/agenda/item//373158</a> || Het Leefstijlpunt Gooise Meren heeft meerdere locaties waar je terecht kunt met vragen over (hersen)gezondheid, sociale activiteiten, sport en bewegen, (digitale) hulp en ondersteuning en nog veel meer over leefstijl.
LAST-MODIFIED:20260424T024018Z
LOCATION:De Plataan/Bibliotheek Naarden Majoor Kampsstraat 3 1411tt Naarden
SEQUENCE:0
STATUS:CONFIRMED
SUMMARY:Leefstijlpunt Gooise Meren
TRANSP:OPAQUE
END:VEVENT
END:VCALENDAR
