BEGIN:VCALENDAR
PRODID:-//PUBBLE//enter agenda//NL
VERSION:2.0
METHOD:PUBLISH
BEGIN:VEVENT
DTSTART:20260421T100000Z
DTEND:20261231T125600Z
DTSTAMP:20260423T234758Z
UID:2bfa7037-abd0-4485-a461-11b5ba7bccde
CREATED:20260423T234758Z
URL:https://www.weespfoto.nl/agenda/item/373159
NAME:Leefstijlpunt Gooise Meren weespfoto.nl
X-WR-CALNAME:Leefstijlpunt Gooise Meren weespfoto.nl
X-ALT-DESC;FMTTYPE=text/html:<a href='https://www.weespfoto.nl/agenda/item//373159'>https://weespfoto.nl/agenda/item//373159</a> || <p>Het Leefstijlpunt Gooise Meren heeft meerdere locaties waar je terecht kunt met vragen over (hersen)gezondheid, sociale activiteiten, sport en bewegen, (digitale) hulp en ondersteuning en nog veel meer over leefstijl.</p>
DESCRIPTION:<a href='https://www.weespfoto.nl/agenda/item//373159'>https://www.weespfoto.nl/agenda/item//373159</a> || Het Leefstijlpunt Gooise Meren heeft meerdere locaties waar je terecht kunt met vragen over (hersen)gezondheid, sociale activiteiten, sport en bewegen, (digitale) hulp en ondersteuning en nog veel meer over leefstijl.
LAST-MODIFIED:20260423T234758Z
LOCATION:Bibliotheek Gooi+ Bussum Wilhelminaplantsoen 18 1404jb Bussum
SEQUENCE:0
STATUS:CONFIRMED
SUMMARY:Leefstijlpunt Gooise Meren
TRANSP:OPAQUE
END:VEVENT
END:VCALENDAR
