BEGIN:VCALENDAR
PRODID:-//PUBBLE//enter agenda//NL
VERSION:2.0
METHOD:PUBLISH
BEGIN:VEVENT
DTSTART:20260421T120000Z
DTEND:20261231T130000Z
DTSTAMP:20260423T235831Z
UID:75c47373-5153-4409-92b2-ae989268054f
CREATED:20260423T235831Z
URL:https://www.weespfoto.nl/agenda/item/373160
NAME:Leefstijlpunt Gooise Meren weespfoto.nl
X-WR-CALNAME:Leefstijlpunt Gooise Meren weespfoto.nl
X-ALT-DESC;FMTTYPE=text/html:<a href='https://www.weespfoto.nl/agenda/item//373160'>https://weespfoto.nl/agenda/item//373160</a> || <p>Het Leefstijlpunt Gooise Meren heeft meerdere locaties waar je terecht kunt met vragen over (hersen)gezondheid, sociale activiteiten, sport en bewegen, (digitale) hulp en ondersteuning en nog veel meer over leefstijl.</p>
DESCRIPTION:<a href='https://www.weespfoto.nl/agenda/item//373160'>https://www.weespfoto.nl/agenda/item//373160</a> || Het Leefstijlpunt Gooise Meren heeft meerdere locaties waar je terecht kunt met vragen over (hersen)gezondheid, sociale activiteiten, sport en bewegen, (digitale) hulp en ondersteuning en nog veel meer over leefstijl.
LAST-MODIFIED:20260423T235831Z
LOCATION:Ontmoetingscentrum SOOV Lange Heul 32 1403 NL Bussum
SEQUENCE:0
STATUS:CONFIRMED
SUMMARY:Leefstijlpunt Gooise Meren
TRANSP:OPAQUE
END:VEVENT
END:VCALENDAR
