BEGIN:VCALENDAR
PRODID:-//PUBBLE//enter agenda//NL
VERSION:2.0
METHOD:PUBLISH
BEGIN:VEVENT
DTSTART:20260421T120700Z
DTEND:20261231T130700Z
DTSTAMP:20260423T093933Z
UID:97c97351-3cec-4cdc-981c-42662fa65619
CREATED:20260423T093933Z
URL:https://www.weespfoto.nl/agenda/item/373162
NAME:Leefstijlpunt Gooise Meren weespfoto.nl
X-WR-CALNAME:Leefstijlpunt Gooise Meren weespfoto.nl
X-ALT-DESC;FMTTYPE=text/html:<a href='https://www.weespfoto.nl/agenda/item//373162'>https://weespfoto.nl/agenda/item//373162</a> || <p>Het Leefstijlpunt Gooise Meren heeft meerdere locaties waar je terecht kunt met vragen over (hersen)gezondheid, sociale activiteiten, sport en bewegen, (digitale) hulp en ondersteuning en nog veel meer over leefstijl.</p>
DESCRIPTION:<a href='https://www.weespfoto.nl/agenda/item//373162'>https://www.weespfoto.nl/agenda/item//373162</a> || Het Leefstijlpunt Gooise Meren heeft meerdere locaties waar je terecht kunt met vragen over (hersen)gezondheid, sociale activiteiten, sport en bewegen, (digitale) hulp en ondersteuning en nog veel meer over leefstijl.
LAST-MODIFIED:20260423T093933Z
LOCATION:De Rijver Muiderberg Nienhuis Ruyskade 26 1399HH Muiderberg
SEQUENCE:0
STATUS:CONFIRMED
SUMMARY:Leefstijlpunt Gooise Meren
TRANSP:OPAQUE
END:VEVENT
END:VCALENDAR
