BEGIN:VCALENDAR
PRODID:-//PUBBLE//enter agenda//NL
VERSION:2.0
METHOD:PUBLISH
BEGIN:VEVENT
DTSTART:20260421T122700Z
DTEND:20261231T132700Z
DTSTAMP:20260423T135923Z
UID:cf13f144-19e7-4cb0-aa4e-02d40bcdc593
CREATED:20260423T135923Z
URL:https://www.weespfoto.nl/agenda/item/373164
NAME:Leefstijlpunt Gooise Meren weespfoto.nl
X-WR-CALNAME:Leefstijlpunt Gooise Meren weespfoto.nl
X-ALT-DESC;FMTTYPE=text/html:<a href='https://www.weespfoto.nl/agenda/item//373164'>https://weespfoto.nl/agenda/item//373164</a> || <p>Het Leefstijlpunt Gooise Meren heeft meerdere locaties waar je terecht kunt met vragen over (hersen)gezondheid, sociale activiteiten, sport en bewegen, (digitale) hulp en ondersteuning en nog veel meer over leefstijl.</p>
DESCRIPTION:<a href='https://www.weespfoto.nl/agenda/item//373164'>https://www.weespfoto.nl/agenda/item//373164</a> || Het Leefstijlpunt Gooise Meren heeft meerdere locaties waar je terecht kunt met vragen over (hersen)gezondheid, sociale activiteiten, sport en bewegen, (digitale) hulp en ondersteuning en nog veel meer over leefstijl.
LAST-MODIFIED:20260423T135923Z
LOCATION:Het Kunstgebouw Prinses Irenestraat 3 1398 CG Muiden
SEQUENCE:0
STATUS:CONFIRMED
SUMMARY:Leefstijlpunt Gooise Meren
TRANSP:OPAQUE
END:VEVENT
END:VCALENDAR
