BEGIN:VCALENDAR
PRODID:-//PUBBLE//enter agenda//NL
VERSION:2.0
METHOD:PUBLISH
BEGIN:VEVENT
DTSTART:20261113T110000Z
DTEND:20261113T130000Z
DTSTAMP:20260424T090608Z
UID:b3d81cc6-ab7c-4610-9767-509cfb3e0cfc
CREATED:20260424T090608Z
URL:https://www.weespfoto.nl/agenda/item/373196
NAME:Workshop bloemenkrans weespfoto.nl
X-WR-CALNAME:Workshop bloemenkrans weespfoto.nl
X-ALT-DESC;FMTTYPE=text/html:<a href='https://www.weespfoto.nl/agenda/item//373196'>https://weespfoto.nl/agenda/item//373196</a> || <p>Een gezellig en creatieve dag, samen bloemenkrans maken bij Vers aan de Vecht. Leer een prachtige bloemenkrans maken met gedroogde bloemen – een echte eyecatcher waar je tot wel twee jaar plezier van hebt.</p><p>Aanmelden op versaandevecht.nl/agenda</p>
DESCRIPTION:<a href='https://www.weespfoto.nl/agenda/item//373196'>https://www.weespfoto.nl/agenda/item//373196</a> || Een gezellig en creatieve dag, samen bloemenkrans maken bij Vers aan de Vecht. Leer een prachtige bloemenkrans maken met gedroogde bloemen – een echte eyecatcher waar je tot wel twee jaar plezier van hebt.Aanmelden op versaandevecht.nl/agenda
LAST-MODIFIED:20260424T090608Z
LOCATION:De Groene Griffioen Lange Muiderweg 18a Lange Muiderweg 18a 1382LA Weesp
SEQUENCE:0
STATUS:CONFIRMED
SUMMARY:Workshop bloemenkrans
TRANSP:OPAQUE
END:VEVENT
END:VCALENDAR
