BEGIN:VCALENDAR
PRODID:-//PUBBLE//enter agenda//NL
VERSION:2.0
METHOD:PUBLISH
BEGIN:VEVENT
DTSTART:20180506T120000Z
DTEND:20180506T140000Z
DTSTAMP:20260421T142122Z
UID:d82d5f44-0a3e-4857-b9cd-6ae7e92e6516
CREATED:20260421T142122Z
URL:https://www.weespfoto.nl/agenda/item/87035
NAME:De tien mooiste huizen van Hilversum. weespfoto.nl
X-WR-CALNAME:De tien mooiste huizen van Hilversum. weespfoto.nl
X-ALT-DESC;FMTTYPE=text/html:<a href='https://www.weespfoto.nl/agenda/item//87035'>https://weespfoto.nl/agenda/item//87035</a> || <p>Wat is het mooiste huis van Hilversum? Die vraag legt Albertus Perk voor aan haar leden en andere Hilversummers (mooistehuizen@albertusperk.nl). Uit de suggesties, monumenten en niet-monumenten, wordt een lijst opgesteld van de Tien mooiste huizen van Hilversum. Deze fietsexcursie onder leiding van Pieter Hoogenraad en Herman Meddens leidt langs deze opmerkelijke panden die verrassend of minder verrassend op de lijst terechtkwamen.</p>

DESCRIPTION:<a href='https://www.weespfoto.nl/agenda/item//87035'>https://www.weespfoto.nl/agenda/item//87035</a> || Wat is het mooiste huis van Hilversum? Die vraag legt Albertus Perk voor aan haar leden en andere Hilversummers (mooistehuizen@albertusperk.nl). Uit de suggesties, monumenten en niet-monumenten, wordt een lijst opgesteld van de Tien mooiste huizen van Hilversum. Deze fietsexcursie onder leiding van Pieter Hoogenraad en Herman Meddens leidt langs deze opmerkelijke panden die verrassend of minder verrassend op de lijst terechtkwamen.

LAST-MODIFIED:20260421T142122Z
LOCATION:Kerkbrink, start en finishgebied Kerkbrink  1211bx Hilversum
SEQUENCE:0
STATUS:CONFIRMED
SUMMARY:De tien mooiste huizen van Hilversum.
TRANSP:OPAQUE
END:VEVENT
END:VCALENDAR
