BEGIN:VCALENDAR
PRODID:-//PUBBLE//enter agenda//NL
VERSION:2.0
METHOD:PUBLISH
BEGIN:VEVENT
DTSTART:20180513T083000Z
DTEND:20180513T110000Z
DTSTAMP:20260424T172240Z
UID:5f9f1819-4f02-4dcc-99eb-f0b9708a188e
CREATED:20260424T172240Z
URL:https://www.weespfoto.nl/agenda/item/90121
NAME:Inspirerende Lezingen. weespfoto.nl
X-WR-CALNAME:Inspirerende Lezingen. weespfoto.nl
X-ALT-DESC;FMTTYPE=text/html:<a href='https://www.weespfoto.nl/agenda/item//90121'>https://weespfoto.nl/agenda/item//90121</a> || <p>https://werkgroepdenieuwemens.nl/</p>

DESCRIPTION:<a href='https://www.weespfoto.nl/agenda/item//90121'>https://www.weespfoto.nl/agenda/item//90121</a> || https://werkgroepdenieuwemens.nl/

LAST-MODIFIED:20260424T172240Z
LOCATION:de Besant Hall Meentweg 9 1411gr Naarden
SEQUENCE:0
STATUS:CONFIRMED
SUMMARY:Inspirerende Lezingen.
TRANSP:OPAQUE
END:VEVENT
END:VCALENDAR
