BEGIN:VCALENDAR
PRODID:-//PUBBLE//enter agenda//NL
VERSION:2.0
METHOD:PUBLISH
BEGIN:VEVENT
DTSTART:20180509T080000Z
DTEND:20180509T093000Z
DTSTAMP:20260422T135202Z
UID:61b6aa3a-1c58-458b-a06d-b69e8e9c59c5
CREATED:20260422T135202Z
URL:https://www.weespfoto.nl/agenda/item/94201
NAME:Mamacafé Weesp weespfoto.nl
X-WR-CALNAME:Mamacafé Weesp weespfoto.nl
X-ALT-DESC;FMTTYPE=text/html:<a href='https://www.weespfoto.nl/agenda/item//94201'>https://weespfoto.nl/agenda/item//94201</a> || <p>Voor (aanstaande) moeders en vaders van jonge kinderen houdt het Centrum voor Jeugd en Gezin een Mamacaf&eacute; in de bibliotheek Om elkaar te ontmoeten en ervaringen en tips uit te wisselen. Van 10.00 tot 11.30 uur.</p>

DESCRIPTION:<a href='https://www.weespfoto.nl/agenda/item//94201'>https://www.weespfoto.nl/agenda/item//94201</a> || Voor (aanstaande) moeders en vaders van jonge kinderen houdt het Centrum voor Jeugd en Gezin een Mamacafé in de bibliotheek Om elkaar te ontmoeten en ervaringen en tips uit te wisselen. Van 10.00 tot 11.30 uur.

LAST-MODIFIED:20260422T135202Z
LOCATION:Bibliotheek Weesp Oudegracht 67 Oudegracht 67 1381XX Weesp
SEQUENCE:0
STATUS:CONFIRMED
SUMMARY:Mamacafé Weesp
TRANSP:OPAQUE
END:VEVENT
END:VCALENDAR
