BEGIN:VCALENDAR
PRODID:-//PUBBLE//enter agenda//NL
VERSION:2.0
METHOD:PUBLISH
BEGIN:VEVENT
DTSTART:20180515T080000Z
DTEND:20180515T093000Z
DTSTAMP:20260425T154242Z
UID:48fae9bc-7220-445c-8f90-95a86e177502
CREATED:20260425T154242Z
URL:https://www.weespfoto.nl/agenda/item/94202
NAME:Mamacafé Weesp weespfoto.nl
X-WR-CALNAME:Mamacafé Weesp weespfoto.nl
X-ALT-DESC;FMTTYPE=text/html:<a href='https://www.weespfoto.nl/agenda/item//94202'>https://weespfoto.nl/agenda/item//94202</a> || <p>Voor (aanstaande) moeders en vaders van jonge kinderen houdt het Centrum voor Jeugd en Gezin een Mamacaf&eacute; in de bibliotheek. Om elkaar te ontmoeten en ervaringen en tips uit te wisselen. Tijd:&nbsp;van 10.00 tot 11.30 uur.</p>

DESCRIPTION:<a href='https://www.weespfoto.nl/agenda/item//94202'>https://www.weespfoto.nl/agenda/item//94202</a> || Voor (aanstaande) moeders en vaders van jonge kinderen houdt het Centrum voor Jeugd en Gezin een Mamacafé in de bibliotheek. Om elkaar te ontmoeten en ervaringen en tips uit te wisselen. Tijd: van 10.00 tot 11.30 uur.

LAST-MODIFIED:20260425T154242Z
LOCATION:Bibliotheek Weesp Oudegracht 67 Oudegracht 67 1381XX Weesp
SEQUENCE:0
STATUS:CONFIRMED
SUMMARY:Mamacafé Weesp
TRANSP:OPAQUE
END:VEVENT
END:VCALENDAR
