BEGIN:VCALENDAR
PRODID:-//PUBBLE//enter agenda//NL
VERSION:2.0
METHOD:PUBLISH
BEGIN:VEVENT
DTSTART:20180506T083000Z
DTEND:20180506T094500Z
DTSTAMP:20260421T082053Z
UID:aca8e374-6ca6-42d6-9e59-5bf4a936186b
CREATED:20260421T082053Z
URL:https://www.weespfoto.nl/agenda/item/96799
NAME:Viering weespfoto.nl
X-WR-CALNAME:Viering weespfoto.nl
X-ALT-DESC;FMTTYPE=text/html:<a href='https://www.weespfoto.nl/agenda/item//96799'>https://weespfoto.nl/agenda/item//96799</a> || Woord en Communieviering met het Hagunnankoor. Voorganger is Mw. J. Kronenberg.<br /><br /><br /><br />
DESCRIPTION:<a href='https://www.weespfoto.nl/agenda/item//96799'>https://www.weespfoto.nl/agenda/item//96799</a> || Woord en Communieviering met het Hagunnankoor. Voorganger is Mw. J. Kronenberg.
LAST-MODIFIED:20260421T082053Z
LOCATION:Sint Petrus' Banden Kerk Hartveldseweg 24 1111bg Diemen
SEQUENCE:0
STATUS:CONFIRMED
SUMMARY:Viering
TRANSP:OPAQUE
END:VEVENT
END:VCALENDAR
