BEGIN:VCALENDAR
PRODID:-//PUBBLE//enter agenda//NL
VERSION:2.0
METHOD:PUBLISH
BEGIN:VEVENT
DTSTART:20180507T070000Z
DTEND:20180509T150000Z
DTSTAMP:20260421T221504Z
UID:c8ce1ef3-6337-4820-a343-34597ec24bc6
CREATED:20260421T221504Z
URL:https://www.weespfoto.nl/agenda/item/97122
NAME:Multi-sport dagkamp Naarden voorjaarsvakan weespfoto.nl
X-WR-CALNAME:Multi-sport dagkamp Naarden voorjaarsvakan weespfoto.nl
X-ALT-DESC;FMTTYPE=text/html:<a href='https://www.weespfoto.nl/agenda/item//97122'>https://weespfoto.nl/agenda/item//97122</a> || <p>Spel & fun voor jouw kleine sportieveling
Doldwaze dagen vol spel en fun en ondertussen snuffelen aan diverse sporten en spellen tijdens de vakantie! Voor jouw zoon of dochter hebben wij sportieve activiteiten en superleuke spellen in petto, zoals bubbelvoetbal, knotshockey en een reusachtig springkussen. Tijdens deze kampen slapen de deelnemers lekker thuis. Zo kan je kind rustig opladen voor weer zo’n leuke dag!

Multi-sport dagkampen (zonder overnachting)
Aan de slag met sport en spel en ondertussen de tijd van je leven hebben? Je maakt het mee tijdens een multi-sport dagkamp van Sportivun. We doen alleen maar leuke dingen, zoals knotshockey, bunkertrefbal, handbal, bubbelvoetbal, er is een springkussen. Te veel om op te noemen dus. En ’s avonds slaap je gewoon in je eigen bed, wel zo vertrouwd. Vind je de hele dag sporten wat lang? Geen probleem! Van 10:30 tot 11:00 is er een extra brengmoment en van 14:30 tot 14:45 een extra ophaalmoment.

Locatie
Sportkamp Naarden in Sportcentrum de Lunet
Voor onze sportkampen in Naarden maken wij gebruik van het fraaie Sportcentrum de Lunet: een ruime zaal van alle gemakken voorzien, met heel veel spannende materialen en een fantastisch zwembad. Succes verzekerd dus! Je auto kan je gewoon op de parkeerplaats bij de zaal kwijt.

</p>
DESCRIPTION:<a href='https://www.weespfoto.nl/agenda/item//97122'>https://www.weespfoto.nl/agenda/item//97122</a> || Spel & fun voor jouw kleine sportieveling
Doldwaze dagen vol spel en fun en ondertussen snuffelen aan diverse sporten en spellen tijdens de vakantie! Voor jouw zoon of dochter hebben wij sportieve activiteiten en superleuke spellen in petto, zoals bubbelvoetbal, knotshockey en een reusachtig springkussen. Tijdens deze kampen slapen de deelnemers lekker thuis. Zo kan je kind rustig opladen voor weer zo’n leuke dag!

Multi-sport dagkampen (zonder overnachting)
Aan de slag met sport en spel en ondertussen de tijd van je leven hebben? Je maakt het mee tijdens een multi-sport dagkamp van Sportivun. We doen alleen maar leuke dingen, zoals knotshockey, bunkertrefbal, handbal, bubbelvoetbal, er is een springkussen. Te veel om op te noemen dus. En ’s avonds slaap je gewoon in je eigen bed, wel zo vertrouwd. Vind je de hele dag sporten wat lang? Geen probleem! Van 10:30 tot 11:00 is er een extra brengmoment en van 14:30 tot 14:45 een extra ophaalmoment.

Locatie
Sportkamp Naarden in Sportcentrum de Lunet
Voor onze sportkampen in Naarden maken wij gebruik van het fraaie Sportcentrum de Lunet: een ruime zaal van alle gemakken voorzien, met heel veel spannende materialen en een fantastisch zwembad. Succes verzekerd dus! Je auto kan je gewoon op de parkeerplaats bij de zaal kwijt.


LAST-MODIFIED:20260421T221504Z
LOCATION:Sporthal De Lunet Amersfoortsestraatweg 16 1411hd Bussum
SEQUENCE:0
STATUS:CONFIRMED
SUMMARY:Multi-sport dagkamp Naarden voorjaarsvakan
TRANSP:OPAQUE
END:VEVENT
END:VCALENDAR
