BEGIN:VCALENDAR
PRODID:-//PUBBLE//enter agenda//NL
VERSION:2.0
METHOD:PUBLISH
BEGIN:VEVENT
DTSTART:20180508T173000Z
DTEND:20180529T183000Z
DTSTAMP:20260422T093220Z
UID:aea65043-eb33-43f1-ae79-29108b39cd4a
CREATED:20260422T093220Z
URL:https://www.weespfoto.nl/agenda/item/97294
NAME:Basiscursus Yoga bij Body and Beyond weespfoto.nl
X-WR-CALNAME:Basiscursus Yoga bij Body and Beyond weespfoto.nl
X-ALT-DESC;FMTTYPE=text/html:<a href='https://www.weespfoto.nl/agenda/item//97294'>https://weespfoto.nl/agenda/item//97294</a> || <p>
Wil je:
 - Meer ontspanning?
 - Meer tijd voor jezelf?
 - Ontdekken wat jij nu echt wilt?
 - Dicht bij jezelf blijven?
 - En ben je nieuwsgierig naar wat Yoga voor jou kan betekenen, in een ontspannen en toegankelijke sfeer?

Doe dan mee aan de Basiscursus Yoga en ervaar zelf de kracht en ontspanning die Yoga jou kan geven.

In een groep van maximaal 10 personen, leer je in 4 weken tijd, de basishoudingen uit de yoga kennen en te beoefenen. In alle rust, ervaar je wat de verschillende Yoga houdingen voor jouw persoonlijk welzijn doen. Kalmerende ademhalingsoefeningen brengen jou binnen no-time tot rust.

Er is tijd en ruimte om vragen te stellen. Wat bij een reguliere les vaak niet mogelijk is. Na de cursus kun je een kort eigen oefenprogramma samenstellen voor thuis. 

Bijdrage: 35 euro p/p voor de totale cursus van 4 weken inclusief informatiemateriaal, Yogi tea tijdens de les en 10% korting bij aankoop van een 10-strippenkaart of abonnement.

Aanmelden mogelijk tot 1 mei 2018 via bianca@bodybeyond.nl
</p>
DESCRIPTION:<a href='https://www.weespfoto.nl/agenda/item//97294'>https://www.weespfoto.nl/agenda/item//97294</a> || 
Wil je:
 - Meer ontspanning?
 - Meer tijd voor jezelf?
 - Ontdekken wat jij nu echt wilt?
 - Dicht bij jezelf blijven?
 - En ben je nieuwsgierig naar wat Yoga voor jou kan betekenen, in een ontspannen en toegankelijke sfeer?

Doe dan mee aan de Basiscursus Yoga en ervaar zelf de kracht en ontspanning die Yoga jou kan geven.

In een groep van maximaal 10 personen, leer je in 4 weken tijd, de basishoudingen uit de yoga kennen en te beoefenen. In alle rust, ervaar je wat de verschillende Yoga houdingen voor jouw persoonlijk welzijn doen. Kalmerende ademhalingsoefeningen brengen jou binnen no-time tot rust.

Er is tijd en ruimte om vragen te stellen. Wat bij een reguliere les vaak niet mogelijk is. Na de cursus kun je een kort eigen oefenprogramma samenstellen voor thuis. 

Bijdrage: 35 euro p/p voor de totale cursus van 4 weken inclusief informatiemateriaal, Yogi tea tijdens de les en 10% korting bij aankoop van een 10-strippenkaart of abonnement.

Aanmelden mogelijk tot 1 mei 2018 via bianca@bodybeyond.nl

LAST-MODIFIED:20260422T093220Z
LOCATION:Body and Beyond Botterstraat 47 1271xl Huizen
SEQUENCE:0
STATUS:CONFIRMED
SUMMARY:Basiscursus Yoga bij Body and Beyond
TRANSP:OPAQUE
END:VEVENT
END:VCALENDAR
