BEGIN:VCALENDAR
PRODID:-//PUBBLE//enter agenda//NL
VERSION:2.0
METHOD:PUBLISH
BEGIN:VEVENT
DTSTART:20180509T183000Z
DTEND:20180509T210000Z
DTSTAMP:20260422T200338Z
UID:87827d14-0d47-401d-8b0c-81578d6abe95
CREATED:20260422T200338Z
URL:https://www.weespfoto.nl/agenda/item/97583
NAME:De Grote Harry Bannink Podcast on tour weespfoto.nl
X-WR-CALNAME:De Grote Harry Bannink Podcast on tour weespfoto.nl
X-ALT-DESC;FMTTYPE=text/html:<a href='https://www.weespfoto.nl/agenda/item//97583'>https://weespfoto.nl/agenda/item//97583</a> || <p>De allereerste try-outs van deze nu al legendarische voorstelling, in ons Theaterpand! Het zou zomaar kunnen dat Harry Bannink de geschiedenis ingaat als een van de grote Nederlandse componisten. In ieder geval zal iedereen die naar de Grote Harry Bannink Podcast van Gijs Groenteman luisterde een diepe bewondering voor de componist krijgen. De grote hits die Bannink met Annie Schmidt maakte worden moeiteloos meegezongen, maar onder het topje van de ijsberg zitten n&oacute;g duizenden liedjes &ndash;&nbsp;meesterwerken die jarenlang ongehoord bleven. Frank Groothof is een van de grote Harry Bannink-vertolkers. Hij neemt het publiek mee langs een duizelingwekkende steekproef van Harry Banninks oeuvre. Begeleid door Bannink-getrouwe&nbsp;Dick van der Stoep, o.a. orkestleider van de Schmidt/Bannink-musicals Foxtrot en Madam. Ingeleid en verklaard door Gijs Groenteman. Een avond vol verhalen over Harry Bannink en diens tijdgenoten, en de liedjes die het summum van de Nederlandse liedkunst vertegenwoordigen.</p>

DESCRIPTION:<a href='https://www.weespfoto.nl/agenda/item//97583'>https://www.weespfoto.nl/agenda/item//97583</a> || De allereerste try-outs van deze nu al legendarische voorstelling, in ons Theaterpand! Het zou zomaar kunnen dat Harry Bannink de geschiedenis ingaat als een van de grote Nederlandse componisten. In ieder geval zal iedereen die naar de Grote Harry Bannink Podcast van Gijs Groenteman luisterde een diepe bewondering voor de componist krijgen. De grote hits die Bannink met Annie Schmidt maakte worden moeiteloos meegezongen, maar onder het topje van de ijsberg zitten nóg duizenden liedjes – meesterwerken die jarenlang ongehoord bleven. Frank Groothof is een van de grote Harry Bannink-vertolkers. Hij neemt het publiek mee langs een duizelingwekkende steekproef van Harry Banninks oeuvre. Begeleid door Bannink-getrouwe Dick van der Stoep, o.a. orkestleider van de Schmidt/Bannink-musicals Foxtrot en Madam. Ingeleid en verklaard door Gijs Groenteman. Een avond vol verhalen over Harry Bannink en diens tijdgenoten, en de liedjes die het summum van de Nederlandse liedkunst vertegenwoordigen.

LAST-MODIFIED:20260422T200338Z
LOCATION:    
SEQUENCE:0
STATUS:CONFIRMED
SUMMARY:De Grote Harry Bannink Podcast on tour
TRANSP:OPAQUE
END:VEVENT
END:VCALENDAR
