BEGIN:VCALENDAR
PRODID:-//PUBBLE//enter agenda//NL
VERSION:2.0
METHOD:PUBLISH
BEGIN:VEVENT
DTSTART:20180506T133000Z
DTEND:20180506T153000Z
DTSTAMP:20260421T190307Z
UID:a5a69ff9-ed5a-4a05-8e8c-bc7bff5dc48a
CREATED:20260421T190307Z
URL:https://www.weespfoto.nl/agenda/item/97613
NAME:Door de nacht klinkt een lied... weespfoto.nl
X-WR-CALNAME:Door de nacht klinkt een lied... weespfoto.nl
X-ALT-DESC;FMTTYPE=text/html:<a href='https://www.weespfoto.nl/agenda/item//97613'>https://weespfoto.nl/agenda/item//97613</a> || <p>Een voorstelling over drie zangeressen tijdens de Tweede Wereldoorlog. Een joodse jonge vrouw vlucht naar Londen en wordt de trooststem van Radio Oranje. Een beginnend chansonnière meldt zich noodgedwongen aan bij de Kultuurkamer. Een joodse violiste en zangeres zingt om te overleven in het cabaret van kamp Westerbork. Jetty Paerl, Conny Stuart en Jetty Cantor. Drie vrouwen die op heel verschillende wijze al zingend de oorlog weten door te komen. In tijd van oorlog blijkt entertainment van levensbelang te zijn.  

In Door de Nacht klinkt een Lied worden deze drie verhalen op een muzikale wijze verteld door de zangeressen Mirjam van Dam, Monique de Adelhart Toorop en Jetta Starreveld. Dat Jetty Paerl, Jetty Cantor en Conny Stuart net als de speelsters ook zangeressen waren, maakt dat zij deze materie heel direct en authentiek kunnen overbrengen op het publiek. Ze worden begeleidt door de pianisten Ed Boekee of Guus Westdorp. De muziek is oorspronkelijk geschreven in de periode 1940-1945.
In Door de nacht klinkt een lied wordt ingespeeld op dit herdenkingsthema, maar het heeft - naast de focus op de gebeurtenissen tijdens de Tweede Wereldoorlog-  ook een heel actueel thema, namelijk die van de vluchtelingenproblematiek.</p>
DESCRIPTION:<a href='https://www.weespfoto.nl/agenda/item//97613'>https://www.weespfoto.nl/agenda/item//97613</a> || Een voorstelling over drie zangeressen tijdens de Tweede Wereldoorlog. Een joodse jonge vrouw vlucht naar Londen en wordt de trooststem van Radio Oranje. Een beginnend chansonnière meldt zich noodgedwongen aan bij de Kultuurkamer. Een joodse violiste en zangeres zingt om te overleven in het cabaret van kamp Westerbork. Jetty Paerl, Conny Stuart en Jetty Cantor. Drie vrouwen die op heel verschillende wijze al zingend de oorlog weten door te komen. In tijd van oorlog blijkt entertainment van levensbelang te zijn.  

In Door de Nacht klinkt een Lied worden deze drie verhalen op een muzikale wijze verteld door de zangeressen Mirjam van Dam, Monique de Adelhart Toorop en Jetta Starreveld. Dat Jetty Paerl, Jetty Cantor en Conny Stuart net als de speelsters ook zangeressen waren, maakt dat zij deze materie heel direct en authentiek kunnen overbrengen op het publiek. Ze worden begeleidt door de pianisten Ed Boekee of Guus Westdorp. De muziek is oorspronkelijk geschreven in de periode 1940-1945.
In Door de nacht klinkt een lied wordt ingespeeld op dit herdenkingsthema, maar het heeft - naast de focus op de gebeurtenissen tijdens de Tweede Wereldoorlog-  ook een heel actueel thema, namelijk die van de vluchtelingenproblematiek.
LAST-MODIFIED:20260421T190307Z
LOCATION:deMess Naarden  Adriaan Dortsmanplein 1B 1411rc Naarden
SEQUENCE:0
STATUS:CONFIRMED
SUMMARY:Door de nacht klinkt een lied...
TRANSP:OPAQUE
END:VEVENT
END:VCALENDAR
