BEGIN:VCALENDAR
PRODID:-//PUBBLE//enter agenda//NL
VERSION:2.0
METHOD:PUBLISH
BEGIN:VEVENT
DTSTART:20180511T183000Z
DTEND:20180511T203000Z
DTSTAMP:20260423T205154Z
UID:d102446c-e53b-4e27-8e7a-fdb1832394af
CREATED:20260423T205154Z
URL:https://www.weespfoto.nl/agenda/item/97614
NAME:Yora Rienstra 'Eerlijk gezegd' weespfoto.nl
X-WR-CALNAME:Yora Rienstra 'Eerlijk gezegd' weespfoto.nl
X-ALT-DESC;FMTTYPE=text/html:<a href='https://www.weespfoto.nl/agenda/item//97614'>https://weespfoto.nl/agenda/item//97614</a> || <p>Yora’s vorige drie cabaretvoorstellingen werden lovend ontvangen. Nee meer dan lovend! De Volkskrant noemt haar een ‘comédienne met diepgang’, Trouw is enthousiast over ‘haar elastieken lijf’ en De Telegraaf gaf haar laatste show zelfs 5 sterren. Dat neigt naar perfectie! 
Ook toerde Yora met de succesvoorstelling PAAZ naar ‘t boek van Myrthe van der Meer. Overal uitverkocht. Echt waar. Ze is een van de presentatoren van het VARA tv programma RAMBAM. Met elk onderwerp het nieuws gehaald! Echt waar! Daarnaast presenteerde met Sander de Heer een weekendshow op Radio 2. Hoogste luistercijfers sinds 1950! Echt waar! Ik hoor u denken 'verdient die vrouw niet een prijs?!'  Die heeft ze al. De Wim Sonneveldprijs op het Amsterdams Kleinkunstfestival. Nog nooit iemand zo overtuigend gewonnen. Allemaal echt waar! 
Eerlijk gezegd is bovenstaande hier en daar wat aangedikt. Eerlijk gezegd wel behoorlijk aangedikt. Het is allemaal nogal overdreven zelfs. Daarbij schrijf ik dit tekstje gewoon zelf, maar zoiets krijgt meer gewicht als ‘t lijkt of een ander het over je zegt. Wat Yora (ik, dus) wil zeggen is: ‘ik hoop dat u komt kijken naar mijn nieuwe show vol tragikomische types, geestige en ontroerende liedjes en herkenbare rake verhalen’. Yora windt er eerlijk gezegd geen doekjes om. Echt waar!
</p>
DESCRIPTION:<a href='https://www.weespfoto.nl/agenda/item//97614'>https://www.weespfoto.nl/agenda/item//97614</a> || Yora’s vorige drie cabaretvoorstellingen werden lovend ontvangen. Nee meer dan lovend! De Volkskrant noemt haar een ‘comédienne met diepgang’, Trouw is enthousiast over ‘haar elastieken lijf’ en De Telegraaf gaf haar laatste show zelfs 5 sterren. Dat neigt naar perfectie! 
Ook toerde Yora met de succesvoorstelling PAAZ naar ‘t boek van Myrthe van der Meer. Overal uitverkocht. Echt waar. Ze is een van de presentatoren van het VARA tv programma RAMBAM. Met elk onderwerp het nieuws gehaald! Echt waar! Daarnaast presenteerde met Sander de Heer een weekendshow op Radio 2. Hoogste luistercijfers sinds 1950! Echt waar! Ik hoor u denken 'verdient die vrouw niet een prijs?!'  Die heeft ze al. De Wim Sonneveldprijs op het Amsterdams Kleinkunstfestival. Nog nooit iemand zo overtuigend gewonnen. Allemaal echt waar! 
Eerlijk gezegd is bovenstaande hier en daar wat aangedikt. Eerlijk gezegd wel behoorlijk aangedikt. Het is allemaal nogal overdreven zelfs. Daarbij schrijf ik dit tekstje gewoon zelf, maar zoiets krijgt meer gewicht als ‘t lijkt of een ander het over je zegt. Wat Yora (ik, dus) wil zeggen is: ‘ik hoop dat u komt kijken naar mijn nieuwe show vol tragikomische types, geestige en ontroerende liedjes en herkenbare rake verhalen’. Yora windt er eerlijk gezegd geen doekjes om. Echt waar!

LAST-MODIFIED:20260423T205154Z
LOCATION:deMess Naarden  Adriaan Dortsmanplein 1B 1411rc Naarden
SEQUENCE:0
STATUS:CONFIRMED
SUMMARY:Yora Rienstra 'Eerlijk gezegd'
TRANSP:OPAQUE
END:VEVENT
END:VCALENDAR
