BEGIN:VCALENDAR
PRODID:-//PUBBLE//enter agenda//NL
VERSION:2.0
METHOD:PUBLISH
BEGIN:VEVENT
DTSTART:20180508T180000Z
DTEND:20180508T210000Z
DTSTAMP:20260422T110140Z
UID:9fc1fefe-3489-452e-a076-f12e561cc6d1
CREATED:20260422T110140Z
URL:https://www.weespfoto.nl/agenda/item/97622
NAME:Bankier van het Verzet weespfoto.nl
X-WR-CALNAME:Bankier van het Verzet weespfoto.nl
X-ALT-DESC;FMTTYPE=text/html:<a href='https://www.weespfoto.nl/agenda/item//97622'>https://weespfoto.nl/agenda/item//97622</a> || <p>Als bankier Walraven van Hall (Barry Atsma) in de Tweede Wereldoorlog wordt gevraagd of hij zijn financiële contacten voor het verzet wil inzetten, aarzelt hij niet lang. Samen met zijn broer, Gijs van Hall (Jacob Derwig), bedenkt hij een riskante constructie om grote leningen af te sluiten waarmee het verzet gefinancierd kan worden. Als ook dat niet genoeg is bedenken de broers de grootste bankfraude uit de Nederlandse geschiedenis: tientallen miljoenen guldens worden onder het oog van de bezetters de Nederlandse Bank uit gesluisd. 
Maar hoe grootschaliger de operatie wordt, hoe meer mensen er van af weten. Iedere dag neemt de kans toe dat iemand dat ene foutje maakt dat een einde kan maken aan de daden en het leven van het bankier van het verzet.</p>
DESCRIPTION:<a href='https://www.weespfoto.nl/agenda/item//97622'>https://www.weespfoto.nl/agenda/item//97622</a> || Als bankier Walraven van Hall (Barry Atsma) in de Tweede Wereldoorlog wordt gevraagd of hij zijn financiële contacten voor het verzet wil inzetten, aarzelt hij niet lang. Samen met zijn broer, Gijs van Hall (Jacob Derwig), bedenkt hij een riskante constructie om grote leningen af te sluiten waarmee het verzet gefinancierd kan worden. Als ook dat niet genoeg is bedenken de broers de grootste bankfraude uit de Nederlandse geschiedenis: tientallen miljoenen guldens worden onder het oog van de bezetters de Nederlandse Bank uit gesluisd. 
Maar hoe grootschaliger de operatie wordt, hoe meer mensen er van af weten. Iedere dag neemt de kans toe dat iemand dat ene foutje maakt dat een einde kan maken aan de daden en het leven van het bankier van het verzet.
LAST-MODIFIED:20260422T110140Z
LOCATION:Brinklaan Brinklaan 36a 1404EW Bussum
SEQUENCE:0
STATUS:CONFIRMED
SUMMARY:Bankier van het Verzet
TRANSP:OPAQUE
END:VEVENT
END:VCALENDAR
