BEGIN:VCALENDAR
PRODID:-//PUBBLE//enter agenda//NL
VERSION:2.0
METHOD:PUBLISH
BEGIN:VEVENT
DTSTART:20180510T180000Z
DTEND:20180510T210000Z
DTSTAMP:20260423T045719Z
UID:b446bdd5-865f-44f3-b275-c388960773a1
CREATED:20260423T045719Z
URL:https://www.weespfoto.nl/agenda/item/97627
NAME:De Wilde Stad weespfoto.nl
X-WR-CALNAME:De Wilde Stad weespfoto.nl
X-ALT-DESC;FMTTYPE=text/html:<a href='https://www.weespfoto.nl/agenda/item//97627'>https://weespfoto.nl/agenda/item//97627</a> || <p>**** "Warm onthaal voor wat er leeft in de stad" NRC 
Bergketens van glas en beton, industriële savannes, kilometers rioolbuizen. Voor een groot aantal wilde dieren, bomen en planten zijn onze straten, tunnels, waterwegen en gebouwen van baksteen net zo geschikt en aantrekkelijk als een oerbos of nieuwe wildernis. De stad verdringt of vervangt niet de natuur, hij is natuur. De forenzende patatmeeuw en de vinexvos zijn net zo wild en bijzonder als de zeehond en de panda.</p>
DESCRIPTION:<a href='https://www.weespfoto.nl/agenda/item//97627'>https://www.weespfoto.nl/agenda/item//97627</a> || **** "Warm onthaal voor wat er leeft in de stad" NRC 
Bergketens van glas en beton, industriële savannes, kilometers rioolbuizen. Voor een groot aantal wilde dieren, bomen en planten zijn onze straten, tunnels, waterwegen en gebouwen van baksteen net zo geschikt en aantrekkelijk als een oerbos of nieuwe wildernis. De stad verdringt of vervangt niet de natuur, hij is natuur. De forenzende patatmeeuw en de vinexvos zijn net zo wild en bijzonder als de zeehond en de panda.
LAST-MODIFIED:20260423T045719Z
LOCATION:Brinklaan Brinklaan 36a 1404EW Bussum
SEQUENCE:0
STATUS:CONFIRMED
SUMMARY:De Wilde Stad
TRANSP:OPAQUE
END:VEVENT
END:VCALENDAR
