BEGIN:VCALENDAR
PRODID:-//PUBBLE//enter agenda//NL
VERSION:2.0
METHOD:PUBLISH
BEGIN:VEVENT
DTSTART:20180510T103000Z
DTEND:20180510T230000Z
DTSTAMP:20260423T020744Z
UID:53a47598-a3b4-45ed-af7e-b6b8f26d2fcb
CREATED:20260423T020744Z
URL:https://www.weespfoto.nl/agenda/item/97691
NAME:Zeskamp KPJ Eemnes op Hemelvaartsdag  weespfoto.nl
X-WR-CALNAME:Zeskamp KPJ Eemnes op Hemelvaartsdag  weespfoto.nl
X-ALT-DESC;FMTTYPE=text/html:<a href='https://www.weespfoto.nl/agenda/item//97691'>https://weespfoto.nl/agenda/item//97691</a> || <p>Op donderdag 10 mei is het weer zo ver, KPJ Eemnes organiseert dan de 7e editie van 6-kamp.  Voor alle leden, niet leden, oud-leden, atleten en bankhangers zal deze dag weer een groot spektakel worden net als voorgaande jaren. Een dag vol sportiviteit en gezelligheid. Het evenement zal dit jaar weer plaats vinden op het terrein van ijsclub ‘de vaart’ te Eemnes. 22 teams kunnen zich deze editie inschrijven en zullen met elkaar de strijd aangaan om op de 1e plaats te eindigen. Tijdens de 6 spellen moeten de teams hun fysieke kracht, kennis en doorzettingsvermogen laten tonen, want maar 1 team kan winnen!
De 6 spellen zijn dit jaar nog leuker, maar ook nog zwaarder, dus bereid je goed voor! 
Denk jij dat jij samen met minimaal 5 vrienden, waarvan minimaal 2 man en 2 vrouw zijn, de beste bent? 

Geef jezelf en je team snel op, inschrijven kan tot 1 mei. Inschrijven kan via 6kamp@kpjeemnes.nl. Een team mag bestaan uit minimaal 6 en maximaal 8 personen (waarvan tenminste 2 mannen en 2 vrouwen). Wees wel op tijd want VOL=VOL. Na de inschrijving volgt verdere informatie met betrekking tot de spelregels en onderdelen.
Natuurlijk is de 6-kamp ook leuk als toeschouwer zijnde. Toeschouwers hebben vrij entree en kunnen met een lekker hapje en drankje de deelnemers aanmoedigen.</p>
DESCRIPTION:<a href='https://www.weespfoto.nl/agenda/item//97691'>https://www.weespfoto.nl/agenda/item//97691</a> || Op donderdag 10 mei is het weer zo ver, KPJ Eemnes organiseert dan de 7e editie van 6-kamp.  Voor alle leden, niet leden, oud-leden, atleten en bankhangers zal deze dag weer een groot spektakel worden net als voorgaande jaren. Een dag vol sportiviteit en gezelligheid. Het evenement zal dit jaar weer plaats vinden op het terrein van ijsclub ‘de vaart’ te Eemnes. 22 teams kunnen zich deze editie inschrijven en zullen met elkaar de strijd aangaan om op de 1e plaats te eindigen. Tijdens de 6 spellen moeten de teams hun fysieke kracht, kennis en doorzettingsvermogen laten tonen, want maar 1 team kan winnen!
De 6 spellen zijn dit jaar nog leuker, maar ook nog zwaarder, dus bereid je goed voor! 
Denk jij dat jij samen met minimaal 5 vrienden, waarvan minimaal 2 man en 2 vrouw zijn, de beste bent? 

Geef jezelf en je team snel op, inschrijven kan tot 1 mei. Inschrijven kan via 6kamp@kpjeemnes.nl. Een team mag bestaan uit minimaal 6 en maximaal 8 personen (waarvan tenminste 2 mannen en 2 vrouwen). Wees wel op tijd want VOL=VOL. Na de inschrijving volgt verdere informatie met betrekking tot de spelregels en onderdelen.
Natuurlijk is de 6-kamp ook leuk als toeschouwer zijnde. Toeschouwers hebben vrij entree en kunnen met een lekker hapje en drankje de deelnemers aanmoedigen.
LAST-MODIFIED:20260423T020744Z
LOCATION:Clubhuis IJsclub ‘De Vaart’,  Stadwijksingel 1  Eemnes
SEQUENCE:0
STATUS:CONFIRMED
SUMMARY:Zeskamp KPJ Eemnes op Hemelvaartsdag 
TRANSP:OPAQUE
END:VEVENT
END:VCALENDAR
