BEGIN:VCALENDAR
PRODID:-//PUBBLE//enter agenda//NL
VERSION:2.0
METHOD:PUBLISH
BEGIN:VEVENT
DTSTART:20180513T110000Z
DTEND:20180701T133000Z
DTSTAMP:20260424T220920Z
UID:7f098984-e1aa-4773-81f9-e3a9b40f5252
CREATED:20260424T220920Z
URL:https://www.weespfoto.nl/agenda/item/98088
NAME:Het Gesprek Durven Aangaan weespfoto.nl
X-WR-CALNAME:Het Gesprek Durven Aangaan weespfoto.nl
X-ALT-DESC;FMTTYPE=text/html:<a href='https://www.weespfoto.nl/agenda/item//98088'>https://weespfoto.nl/agenda/item//98088</a> || <p>Met plezier nodigen we je uit voor deze achtweekse cursus in Bussum. Je krijgt in totaal 20 uur training in een groep, 8 video’s, een handleiding voor open gesprekken en een wekelijks online spreekuur. Je gaat op zondagmiddagen, in de praktijk van Piith aan de Laarderweg 65, klassikaal en één-op-één aan de slag met SpeakUP & CheckIN. Met deze methode leer je de essentie van Geweldloze Communicatie én Mindfulness toe te passen in je gesprekken met vrienden, familie en collega’s.
</p>
DESCRIPTION:<a href='https://www.weespfoto.nl/agenda/item//98088'>https://www.weespfoto.nl/agenda/item//98088</a> || Met plezier nodigen we je uit voor deze achtweekse cursus in Bussum. Je krijgt in totaal 20 uur training in een groep, 8 video’s, een handleiding voor open gesprekken en een wekelijks online spreekuur. Je gaat op zondagmiddagen, in de praktijk van Piith aan de Laarderweg 65, klassikaal en één-op-één aan de slag met SpeakUP & CheckIN. Met deze methode leer je de essentie van Geweldloze Communicatie én Mindfulness toe te passen in je gesprekken met vrienden, familie en collega’s.

LAST-MODIFIED:20260424T220920Z
LOCATION:    
SEQUENCE:0
STATUS:CONFIRMED
SUMMARY:Het Gesprek Durven Aangaan
TRANSP:OPAQUE
END:VEVENT
END:VCALENDAR
