BEGIN:VCALENDAR
PRODID:-//PUBBLE//enter agenda//NL
VERSION:2.0
METHOD:PUBLISH
BEGIN:VEVENT
DTSTART:20180511T170000Z
DTEND:20180511T193000Z
DTSTAMP:20260423T164336Z
UID:007fa37b-948b-44a1-879e-da9475fa308a
CREATED:20260423T164336Z
URL:https://www.weespfoto.nl/agenda/item/98179
NAME:'Aangenaam, ik ben...' weespfoto.nl
X-WR-CALNAME:'Aangenaam, ik ben...' weespfoto.nl
X-ALT-DESC;FMTTYPE=text/html:<a href='https://www.weespfoto.nl/agenda/item//98179'>https://weespfoto.nl/agenda/item//98179</a> || <p>In deze workshop staan verhalen, ontmoetingen en helden centraal. Door middel van verhalen willen we jonge, oude en nieuwe Diemenaren aan elkaar verbinden. Je wordt tijdens de workshopreeks op creatieve wijze uitgedaagd om jezelf te ontplooien en het beste uit jezelf te halen! Ga jij mee op reis? Workshop 1 (11-05): ontmoet jouw held en die van anderen De verhalenreis start: Wie is jouw held of inspiratiebron? Ontmoet die van jezelf en andere Diemenaren. Helden van andere tijden en culturen. Workshop 2 (25-05): jouw reis Welke reis moet jij afleggen om te worden zoals de persoon die jij bewondert? Waar loop je tegen aan? Je cre&euml;ert jouw verhaal en dat van je held. Workshop 3 (1-06): de beste versie van jezelf Welke stappen ga jij zetten om de beste versie van jezelf te worden? Kosten: 2 euro per workshop (4 euro voor niet-OBA-leden) Aanmelden via: diemen@oba.nl</p>

DESCRIPTION:<a href='https://www.weespfoto.nl/agenda/item//98179'>https://www.weespfoto.nl/agenda/item//98179</a> || In deze workshop staan verhalen, ontmoetingen en helden centraal. Door middel van verhalen willen we jonge, oude en nieuwe Diemenaren aan elkaar verbinden. Je wordt tijdens de workshopreeks op creatieve wijze uitgedaagd om jezelf te ontplooien en het beste uit jezelf te halen! Ga jij mee op reis? Workshop 1 (11-05): ontmoet jouw held en die van anderen De verhalenreis start: Wie is jouw held of inspiratiebron? Ontmoet die van jezelf en andere Diemenaren. Helden van andere tijden en culturen. Workshop 2 (25-05): jouw reis Welke reis moet jij afleggen om te worden zoals de persoon die jij bewondert? Waar loop je tegen aan? Je creëert jouw verhaal en dat van je held. Workshop 3 (1-06): de beste versie van jezelf Welke stappen ga jij zetten om de beste versie van jezelf te worden? Kosten: 2 euro per workshop (4 euro voor niet-OBA-leden) Aanmelden via: diemen@oba.nl

LAST-MODIFIED:20260423T164336Z
LOCATION:OBA Diemen Wilhelminaplantsoen 126 1111cp Diemen
SEQUENCE:0
STATUS:CONFIRMED
SUMMARY:'Aangenaam, ik ben...'
TRANSP:OPAQUE
END:VEVENT
END:VCALENDAR
