BEGIN:VCALENDAR
PRODID:-//PUBBLE//enter agenda//NL
VERSION:2.0
METHOD:PUBLISH
BEGIN:VEVENT
DTSTART:20180507T080000Z
DTEND:20180507T100000Z
DTSTAMP:20260421T235101Z
UID:548d1942-dc2a-47ac-a3cc-ea382bf40fc9
CREATED:20260421T235101Z
URL:https://www.weespfoto.nl/agenda/item/98227
NAME:OPTICIEN AAN HUIS IN DE PALMPIT weespfoto.nl
X-WR-CALNAME:OPTICIEN AAN HUIS IN DE PALMPIT weespfoto.nl
X-ALT-DESC;FMTTYPE=text/html:<a href='https://www.weespfoto.nl/agenda/item//98227'>https://weespfoto.nl/agenda/item//98227</a> || <p>Stoffer Optiek (opticien aan huis) komt op maandag 7 mei van 10.00 – 12.00 uur weer naar wijkontmoetingscentrum De Palmpit. Hierbij kan men gratis de ogen laten meten, de bril laten schoonmaken en vragen stellen over je ogen en/of de bril. Alles wat je ook bij een opticien doet. 
</p>
DESCRIPTION:<a href='https://www.weespfoto.nl/agenda/item//98227'>https://www.weespfoto.nl/agenda/item//98227</a> || Stoffer Optiek (opticien aan huis) komt op maandag 7 mei van 10.00 – 12.00 uur weer naar wijkontmoetingscentrum De Palmpit. Hierbij kan men gratis de ogen laten meten, de bril laten schoonmaken en vragen stellen over je ogen en/of de bril. Alles wat je ook bij een opticien doet. 

LAST-MODIFIED:20260421T235101Z
LOCATION:    
SEQUENCE:0
STATUS:CONFIRMED
SUMMARY:OPTICIEN AAN HUIS IN DE PALMPIT
TRANSP:OPAQUE
END:VEVENT
END:VCALENDAR
