BEGIN:VCALENDAR
PRODID:-//PUBBLE//enter agenda//NL
VERSION:2.0
METHOD:PUBLISH
BEGIN:VEVENT
DTSTART:20180511T140000Z
DTEND:20180513T210000Z
DTSTAMP:20260423T150043Z
UID:0dd11123-f620-4f09-938e-90be078fa6f8
CREATED:20260423T150043Z
URL:https://www.weespfoto.nl/agenda/item/98261
NAME:Eten op Rolletjes 2018 - Hilversum weespfoto.nl
X-WR-CALNAME:Eten op Rolletjes 2018 - Hilversum weespfoto.nl
X-ALT-DESC;FMTTYPE=text/html:<a href='https://www.weespfoto.nl/agenda/item//98261'>https://weespfoto.nl/agenda/item//98261</a> || <p>Eten op Rolletjes 2018 - Hilversum Eten op Rolletjes is terug! Voor de derde keer mogen we ons favoriete feestje weer in het Dudokpark laten plaatsvinden. In het Hemelsvaartweekend en met Moederdag viert Hilversum feest! Van 11 t/m 13 mei 2018 wordt het bijzondere Dudokpark in Hilversum weer een openluchtrestaurant voor jong, oud en alles daartussenin. Dit jaar met nieuwe foodtrucks, akoestische bandjes en vermaak! Ontdek nieuwe smaken bij &eacute;&eacute;n van de keukens op rolletjes. Er is aanbod voor iedereen! Plof met de hele familie neer op een picknickkleed en deel hapjes met elkaar. Maak nieuwe vrienden aan &eacute;&eacute;n van de grote houten tafels. Doe met je kinderen mee in het poppentheater of schuif aan bij het schminken. Laat je verrassen en sluit de dag af met de lekkerste live muziek van o.a. lokale akoestische bandjes! BELANGRIJKE INFORMATIE - HILVERSUM Entree &amp; openingstijden - Toegang is helemaal gratis. - De entree van Eten op Rolletjes is te vinden aan het Dudokpark. - De keukens zijn op vrijdag van 16:00 tot 23:00 uur geopend. Op zaterdag zijn we open van 13:00 tot 23:00 uur en op zondag van 13:00 tot 20:00 uur.</p>

DESCRIPTION:<a href='https://www.weespfoto.nl/agenda/item//98261'>https://www.weespfoto.nl/agenda/item//98261</a> || Eten op Rolletjes 2018 - Hilversum Eten op Rolletjes is terug! Voor de derde keer mogen we ons favoriete feestje weer in het Dudokpark laten plaatsvinden. In het Hemelsvaartweekend en met Moederdag viert Hilversum feest! Van 11 t/m 13 mei 2018 wordt het bijzondere Dudokpark in Hilversum weer een openluchtrestaurant voor jong, oud en alles daartussenin. Dit jaar met nieuwe foodtrucks, akoestische bandjes en vermaak! Ontdek nieuwe smaken bij één van de keukens op rolletjes. Er is aanbod voor iedereen! Plof met de hele familie neer op een picknickkleed en deel hapjes met elkaar. Maak nieuwe vrienden aan één van de grote houten tafels. Doe met je kinderen mee in het poppentheater of schuif aan bij het schminken. Laat je verrassen en sluit de dag af met de lekkerste live muziek van o.a. lokale akoestische bandjes! BELANGRIJKE INFORMATIE - HILVERSUM Entree & openingstijden - Toegang is helemaal gratis. - De entree van Eten op Rolletjes is te vinden aan het Dudokpark. - De keukens zijn op vrijdag van 16:00 tot 23:00 uur geopend. Op zaterdag zijn we open van 13:00 tot 23:00 uur en op zondag van 13:00 tot 20:00 uur.

LAST-MODIFIED:20260423T150043Z
LOCATION:Dudokpark Dudokpark 1 1217je Hilversum
SEQUENCE:0
STATUS:CONFIRMED
SUMMARY:Eten op Rolletjes 2018 - Hilversum
TRANSP:OPAQUE
END:VEVENT
END:VCALENDAR
