BEGIN:VCALENDAR
PRODID:-//PUBBLE//enter agenda//NL
VERSION:2.0
METHOD:PUBLISH
BEGIN:VEVENT
DTSTART:20180512T181500Z
DTEND:20180512T193000Z
DTSTAMP:20260424T125537Z
UID:f49faddb-ec39-496b-b468-428e686d991e
CREATED:20260424T125537Z
URL:https://www.weespfoto.nl/agenda/item/98461
NAME:Camerata RCO met Gyrowetz, Beethoven en Haydn weespfoto.nl
X-WR-CALNAME:Camerata RCO met Gyrowetz, Beethoven en Haydn weespfoto.nl
X-ALT-DESC;FMTTYPE=text/html:<a href='https://www.weespfoto.nl/agenda/item//98461'>https://weespfoto.nl/agenda/item//98461</a> || <p>De klarinetvirtuoos Gambaro (uit het Italiaanse Genua) bewerkte in de vroege 18de eeuw vier delen uit diverse strijkkwartetten van Jozef Haydn tot een kwartet voor klarinet en strijktrio. In het eerste deel gebruikte hij zelfs twee delen uit verschillende kwartetten die hij samen smeedde tot een geheel. De uitvoering door de musici van Camerata RCO (leden van het Koninklijk Concertgebouworkest) zal zonder twijfel bijzonder worden, zoals elk concert dat zij geven: vol passie, vakmanschap, en een vleug humor.</p>

DESCRIPTION:<a href='https://www.weespfoto.nl/agenda/item//98461'>https://www.weespfoto.nl/agenda/item//98461</a> || De klarinetvirtuoos Gambaro (uit het Italiaanse Genua) bewerkte in de vroege 18de eeuw vier delen uit diverse strijkkwartetten van Jozef Haydn tot een kwartet voor klarinet en strijktrio. In het eerste deel gebruikte hij zelfs twee delen uit verschillende kwartetten die hij samen smeedde tot een geheel. De uitvoering door de musici van Camerata RCO (leden van het Koninklijk Concertgebouworkest) zal zonder twijfel bijzonder worden, zoals elk concert dat zij geven: vol passie, vakmanschap, en een vleug humor.

LAST-MODIFIED:20260424T125537Z
LOCATION:Muziekcentrum van de Omroep (MCO) Heuvellaan 33 1217jl Hilversum
SEQUENCE:0
STATUS:CONFIRMED
SUMMARY:Camerata RCO met Gyrowetz, Beethoven en Haydn
TRANSP:OPAQUE
END:VEVENT
END:VCALENDAR
