BEGIN:VCALENDAR
PRODID:-//PUBBLE//enter agenda//NL
VERSION:2.0
METHOD:PUBLISH
BEGIN:VEVENT
DTSTART:20180507T173000Z
DTEND:20180507T190000Z
DTSTAMP:20260422T030516Z
UID:f556c813-f8b1-40e2-82ea-29766dd56bc2
CREATED:20260422T030516Z
URL:https://www.weespfoto.nl/agenda/item/98575
NAME:start to bootcamp weespfoto.nl
X-WR-CALNAME:start to bootcamp weespfoto.nl
X-ALT-DESC;FMTTYPE=text/html:<a href='https://www.weespfoto.nl/agenda/item//98575'>https://weespfoto.nl/agenda/item//98575</a> || <p>30 mei starten wij weer met ons eigen programma Start to Bootcamp, speciaal bedoeld voor mensen die willen kennis maken met het bootcampen, terug komen van een zwangerschap of blessure of de stap naar de huidige groepen te groot vindt. Bootcamp bij Sportief Hardlopen Huizen betekend: sterker worden door de combinatie van krachtoefeningen en hardlopen. Dat is goed voor je vitaliteit, algehele conditie, uithoudingsvermogen, en ook je loophouding. Bij de krachtoefeningen gebruik je je eigen gewicht , en daarbij zo&#39;n beetje alles wat de omgeving van Huizen te bieden heeft: Heuvels, zand, (boom-)stammen, en zoals gezegd soms elkaar. Het is een training van 7 weken op elke woensdagavond om 19:30 uur en zondagochtend om 10:00 uur. Tijdens de trainingen werken we aan conditie en kracht, op een leuke en afwisselende manier zal je ongemerkt een top conditie opbouwen.</p>

DESCRIPTION:<a href='https://www.weespfoto.nl/agenda/item//98575'>https://www.weespfoto.nl/agenda/item//98575</a> || 30 mei starten wij weer met ons eigen programma Start to Bootcamp, speciaal bedoeld voor mensen die willen kennis maken met het bootcampen, terug komen van een zwangerschap of blessure of de stap naar de huidige groepen te groot vindt. Bootcamp bij Sportief Hardlopen Huizen betekend: sterker worden door de combinatie van krachtoefeningen en hardlopen. Dat is goed voor je vitaliteit, algehele conditie, uithoudingsvermogen, en ook je loophouding. Bij de krachtoefeningen gebruik je je eigen gewicht , en daarbij zo'n beetje alles wat de omgeving van Huizen te bieden heeft: Heuvels, zand, (boom-)stammen, en zoals gezegd soms elkaar. Het is een training van 7 weken op elke woensdagavond om 19:30 uur en zondagochtend om 10:00 uur. Tijdens de trainingen werken we aan conditie en kracht, op een leuke en afwisselende manier zal je ongemerkt een top conditie opbouwen.

LAST-MODIFIED:20260422T030516Z
LOCATION:Trappenberg Studio Hankewi Crailoseweg 116 1272EX Huizen
SEQUENCE:0
STATUS:CONFIRMED
SUMMARY:start to bootcamp
TRANSP:OPAQUE
END:VEVENT
END:VCALENDAR
