BEGIN:VCALENDAR
PRODID:-//PUBBLE//enter agenda//NL
VERSION:2.0
METHOD:PUBLISH
BEGIN:VEVENT
DTSTART:20180510T100000Z
DTEND:20180510T130000Z
DTSTAMP:20260423T004409Z
UID:ca1191a3-4b49-461d-b87e-d3e8212c50da
CREATED:20260423T004409Z
URL:https://www.weespfoto.nl/agenda/item/98596
NAME:Vogelaars op Pampus weespfoto.nl
X-WR-CALNAME:Vogelaars op Pampus weespfoto.nl
X-ALT-DESC;FMTTYPE=text/html:<a href='https://www.weespfoto.nl/agenda/item//98596'>https://weespfoto.nl/agenda/item//98596</a> || <p> Vogels – op Pampus zie je ze overal vliegen, zelfs in het fort! Kom op het eiland meer te weten over de wondere wereld van vogels!
 

 Op Pampus zijn er tientallen verschillende soorten vogels in een jaar tijd zien. Over hun levenswijze valt van alles te leren: waarom zien we in de zomer andere vogels dan in de winter, waarom trekken sommige soorten weg en andere niet... 
 
 Vogelaars Engbert van Oort en Dick Jonkers komen al jaren op het eiland om onze gevleugelde vriendjes te vangen en te ringen. Kijk met ze mee en ontdek wat er op Pampus vliegt, nestelt en broedt.
 

 Op 10 mei komen ze één keer op een donderdag i.p.v. op een woensdag, zodat extra veel bezoekers op Hemelvaartsdag de vogelaars in actie kunnen zien. Daarna zijn de vogelaars weer om de woensdag er op 23 mei, 6 juni, etc.
</p>
DESCRIPTION:<a href='https://www.weespfoto.nl/agenda/item//98596'>https://www.weespfoto.nl/agenda/item//98596</a> ||  Vogels – op Pampus zie je ze overal vliegen, zelfs in het fort! Kom op het eiland meer te weten over de wondere wereld van vogels!
 

 Op Pampus zijn er tientallen verschillende soorten vogels in een jaar tijd zien. Over hun levenswijze valt van alles te leren: waarom zien we in de zomer andere vogels dan in de winter, waarom trekken sommige soorten weg en andere niet... 
 
 Vogelaars Engbert van Oort en Dick Jonkers komen al jaren op het eiland om onze gevleugelde vriendjes te vangen en te ringen. Kijk met ze mee en ontdek wat er op Pampus vliegt, nestelt en broedt.
 

 Op 10 mei komen ze één keer op een donderdag i.p.v. op een woensdag, zodat extra veel bezoekers op Hemelvaartsdag de vogelaars in actie kunnen zien. Daarna zijn de vogelaars weer om de woensdag er op 23 mei, 6 juni, etc.

LAST-MODIFIED:20260423T004409Z
LOCATION:Forteiland Pampus Fortwoning Pampus 1 1398PX Muiden
SEQUENCE:0
STATUS:CONFIRMED
SUMMARY:Vogelaars op Pampus
TRANSP:OPAQUE
END:VEVENT
END:VCALENDAR
