BEGIN:VCALENDAR
PRODID:-//PUBBLE//enter agenda//NL
VERSION:2.0
METHOD:PUBLISH
BEGIN:VEVENT
DTSTART:20180513T090000Z
DTEND:20180513T150000Z
DTSTAMP:20260424T185820Z
UID:ea3c57b1-b683-4b63-89a3-f104cd668bd6
CREATED:20260424T185820Z
URL:https://www.weespfoto.nl/agenda/item/98600
NAME:Moederdag op Pampus – High tea, mama & me! weespfoto.nl
X-WR-CALNAME:Moederdag op Pampus – High tea, mama & me! weespfoto.nl
X-ALT-DESC;FMTTYPE=text/html:<a href='https://www.weespfoto.nl/agenda/item//98600'>https://weespfoto.nl/agenda/item//98600</a> || <p>Moederdag – zet samen met Pampus je moeder in het zonnetje op zondag 13 mei en trakteer haar op een avontuurlijke high tea op een onbewoond eiland.

Een high tea op forteiland Pampus is niet alleen maar lekker. Naast dat je geniet van zalig zoet en heerlijk hartig, kun je ook op ontdekkingstocht en een duik in de geschiedenis nemen. Ga het fort in! Er zijn gidsen die je er gratis rondleiden en via de Pampus Xperience beleef je een complete beeld-en-geluid ervaring die het soldatenleven op het fort weer tot leven brengt. Verder kun je, voldaan van de high tea, heerlijk ronddwalen over het eiland en verrukt raken door het prachtige uitzicht rondom. Natuurlijk moet dappere mama wel voorop als je de pikdonkere sleutelgang gaat verkennen. Deze zeer nauwe gang loopt helemaal rondom het fort en het schijnt er te spoken…

Speciale high tea op Moederdag - de hight tea wordt om 13 uur geserveerd en bestaat uit thee in overvloed, heerlijk hartig en zalige zoetigheden. 

De higt tea boek je online, naast het entreeticket, bij als supplement voor €19,50. Kinderen tot 4 jaar smikkelen gratis mee. Voor kinderen tussen de 4 en 12 kost de high tea €15,50.

</p>
DESCRIPTION:<a href='https://www.weespfoto.nl/agenda/item//98600'>https://www.weespfoto.nl/agenda/item//98600</a> || Moederdag – zet samen met Pampus je moeder in het zonnetje op zondag 13 mei en trakteer haar op een avontuurlijke high tea op een onbewoond eiland.

Een high tea op forteiland Pampus is niet alleen maar lekker. Naast dat je geniet van zalig zoet en heerlijk hartig, kun je ook op ontdekkingstocht en een duik in de geschiedenis nemen. Ga het fort in! Er zijn gidsen die je er gratis rondleiden en via de Pampus Xperience beleef je een complete beeld-en-geluid ervaring die het soldatenleven op het fort weer tot leven brengt. Verder kun je, voldaan van de high tea, heerlijk ronddwalen over het eiland en verrukt raken door het prachtige uitzicht rondom. Natuurlijk moet dappere mama wel voorop als je de pikdonkere sleutelgang gaat verkennen. Deze zeer nauwe gang loopt helemaal rondom het fort en het schijnt er te spoken…

Speciale high tea op Moederdag - de hight tea wordt om 13 uur geserveerd en bestaat uit thee in overvloed, heerlijk hartig en zalige zoetigheden. 

De higt tea boek je online, naast het entreeticket, bij als supplement voor €19,50. Kinderen tot 4 jaar smikkelen gratis mee. Voor kinderen tussen de 4 en 12 kost de high tea €15,50.


LAST-MODIFIED:20260424T185820Z
LOCATION:Forteiland Pampus Fortwoning Pampus 1 1398PX Muiden
SEQUENCE:0
STATUS:CONFIRMED
SUMMARY:Moederdag op Pampus – High tea, mama & me!
TRANSP:OPAQUE
END:VEVENT
END:VCALENDAR
