BEGIN:VCALENDAR
PRODID:-//PUBBLE//enter agenda//NL
VERSION:2.0
METHOD:PUBLISH
BEGIN:VEVENT
DTSTART:20180514T181500Z
DTEND:20180514T194500Z
DTSTAMP:20260425T135711Z
UID:3cc0f1c6-3af0-4fd3-8f38-24c4a2f3b03a
CREATED:20260425T135711Z
URL:https://www.weespfoto.nl/agenda/item/98830
NAME:Rodion Trio weespfoto.nl
X-WR-CALNAME:Rodion Trio weespfoto.nl
X-ALT-DESC;FMTTYPE=text/html:<a href='https://www.weespfoto.nl/agenda/item//98830'>https://weespfoto.nl/agenda/item//98830</a> || <p>Last van slapeloosheid? Wintertenen? Humeurigheid, angst, vermoeidheid of een laag libido? Het spreekuur van het Rodion Trio is doorgaand geopend &ndash; voor klachten van allerlei aard brouwen zij voor u een muzikaal medicijn. In hun draagbare apotheek vindt u een kruidig programma met o.a. Mozart, H&auml;ndel, Rameau, Tchaikovsky, Rossini, Wagner en Bach. De bezetting van klarinet, saxofoon en piano lijkt beperkt omdat er nauwelijks composities voor zijn geschreven. Maar juist dat gegeven heeft het Rodion Trio omgedraaid door eigen arrangementen te maken.</p>

DESCRIPTION:<a href='https://www.weespfoto.nl/agenda/item//98830'>https://www.weespfoto.nl/agenda/item//98830</a> || Last van slapeloosheid? Wintertenen? Humeurigheid, angst, vermoeidheid of een laag libido? Het spreekuur van het Rodion Trio is doorgaand geopend – voor klachten van allerlei aard brouwen zij voor u een muzikaal medicijn. In hun draagbare apotheek vindt u een kruidig programma met o.a. Mozart, Händel, Rameau, Tchaikovsky, Rossini, Wagner en Bach. De bezetting van klarinet, saxofoon en piano lijkt beperkt omdat er nauwelijks composities voor zijn geschreven. Maar juist dat gegeven heeft het Rodion Trio omgedraaid door eigen arrangementen te maken.

LAST-MODIFIED:20260425T135711Z
LOCATION:Rosa Spier Huis  Hector Treublaan  97 1251 CG Laren
SEQUENCE:0
STATUS:CONFIRMED
SUMMARY:Rodion Trio
TRANSP:OPAQUE
END:VEVENT
END:VCALENDAR
