BEGIN:VCALENDAR
PRODID:-//PUBBLE//enter agenda//NL
VERSION:2.0
METHOD:PUBLISH
BEGIN:VEVENT
DTSTART:20180514T180000Z
DTEND:20180514T203000Z
DTSTAMP:20260425T121607Z
UID:f989969f-76c4-4382-a88a-f52830a64c2d
CREATED:20260425T121607Z
URL:https://www.weespfoto.nl/agenda/item/98880
NAME:Gezond Verstand Avond Bussum weespfoto.nl
X-WR-CALNAME:Gezond Verstand Avond Bussum weespfoto.nl
X-ALT-DESC;FMTTYPE=text/html:<a href='https://www.weespfoto.nl/agenda/item//98880'>https://weespfoto.nl/agenda/item//98880</a> || <p>Over krap 2 jaar treedt de wet in werking wat betreft orgaandonatie: dan is iedereen in principe orgaandonor tenzij je aangeeft dat je dat niet wilt. Het lijkt mij een wat omgekeerde wereld: je lichaam is van de overheid tenzij je het actief terug vraagt. En de overheid speelt nogal in op je emoties ('dat doe je toch voor een ander') maar verzuimt informatie te geven wat het concreet betekent om donor te zijn.
Op 14 mei komt Ger Lodewick informatie geven en al je vragen beantwoorden omtrent orgaandonatie. Het lijkt mij heel belangrijk om heel goed te onderzoeken welke keus je wil maken, of je nou wel of geen donor wil zijn.
Laat je informeren door Ger op maandag 14 mei en meld je aan op gvabussum@gmail.com of 06-24241829

Hartelijke groeten Mischa Beekman</p>
DESCRIPTION:<a href='https://www.weespfoto.nl/agenda/item//98880'>https://www.weespfoto.nl/agenda/item//98880</a> || Over krap 2 jaar treedt de wet in werking wat betreft orgaandonatie: dan is iedereen in principe orgaandonor tenzij je aangeeft dat je dat niet wilt. Het lijkt mij een wat omgekeerde wereld: je lichaam is van de overheid tenzij je het actief terug vraagt. En de overheid speelt nogal in op je emoties ('dat doe je toch voor een ander') maar verzuimt informatie te geven wat het concreet betekent om donor te zijn.
Op 14 mei komt Ger Lodewick informatie geven en al je vragen beantwoorden omtrent orgaandonatie. Het lijkt mij heel belangrijk om heel goed te onderzoeken welke keus je wil maken, of je nou wel of geen donor wil zijn.
Laat je informeren door Ger op maandag 14 mei en meld je aan op gvabussum@gmail.com of 06-24241829

Hartelijke groeten Mischa Beekman
LAST-MODIFIED:20260425T121607Z
LOCATION:Stricks Bakery Cafe Nassaulaan 48 1404cr Bussum
SEQUENCE:0
STATUS:CONFIRMED
SUMMARY:Gezond Verstand Avond Bussum
TRANSP:OPAQUE
END:VEVENT
END:VCALENDAR
