BEGIN:VCALENDAR
PRODID:-//PUBBLE//enter agenda//NL
VERSION:2.0
METHOD:PUBLISH
BEGIN:VEVENT
DTSTART:20180512T183000Z
DTEND:20180512T203000Z
DTSTAMP:20260424T141759Z
UID:ad1e2f1b-78e7-4813-9692-f9ca7a30d41a
CREATED:20260424T141759Z
URL:https://www.weespfoto.nl/agenda/item/98959
NAME:Haan & Hoogeboom 'Vonken' weespfoto.nl
X-WR-CALNAME:Haan & Hoogeboom 'Vonken' weespfoto.nl
X-ALT-DESC;FMTTYPE=text/html:<a href='https://www.weespfoto.nl/agenda/item//98959'>https://weespfoto.nl/agenda/item//98959</a> || <p>Een muzikaal cabaretprogramma van Dorien Haan en Johan Hoogeboom.

Hij wil er niet bij horen, zij kan ze niet houden.
Zij strikt ze, hij vindt ze levensgevaarlijk.
Hij schaamt zich, zij slooft zich uit.
Hij kan maar nauwelijks geloven dat hij het eindproduct is van miljoenen jaren uitgekiende celdeling. Zij overweegt nu toch echt te gaan kooivechten.
Zou wabi-sabi iets voor hen zijn?

Met vurige liedjes en aanstekelijke humor gaan ze elkaar en zichzelf te lijf tot de vonken ervan af spatten. Haan & Hoogeboom, en er was licht!</p>
DESCRIPTION:<a href='https://www.weespfoto.nl/agenda/item//98959'>https://www.weespfoto.nl/agenda/item//98959</a> || Een muzikaal cabaretprogramma van Dorien Haan en Johan Hoogeboom.

Hij wil er niet bij horen, zij kan ze niet houden.
Zij strikt ze, hij vindt ze levensgevaarlijk.
Hij schaamt zich, zij slooft zich uit.
Hij kan maar nauwelijks geloven dat hij het eindproduct is van miljoenen jaren uitgekiende celdeling. Zij overweegt nu toch echt te gaan kooivechten.
Zou wabi-sabi iets voor hen zijn?

Met vurige liedjes en aanstekelijke humor gaan ze elkaar en zichzelf te lijf tot de vonken ervan af spatten. Haan & Hoogeboom, en er was licht!
LAST-MODIFIED:20260424T141759Z
LOCATION:deMess Naarden  Adriaan Dortsmanplein 1B 1411rc Naarden
SEQUENCE:0
STATUS:CONFIRMED
SUMMARY:Haan & Hoogeboom 'Vonken'
TRANSP:OPAQUE
END:VEVENT
END:VCALENDAR
