BEGIN:VCALENDAR
PRODID:-//PUBBLE//enter agenda//NL
VERSION:2.0
METHOD:PUBLISH
BEGIN:VEVENT
DTSTART:20180511T080000Z
DTEND:20180511T130000Z
DTSTAMP:20260423T112300Z
UID:6baba464-740f-49a1-b18f-3d3404151a97
CREATED:20260423T112300Z
URL:https://www.weespfoto.nl/agenda/item/98988
NAME:Sportdag Naarden weespfoto.nl
X-WR-CALNAME:Sportdag Naarden weespfoto.nl
X-ALT-DESC;FMTTYPE=text/html:<a href='https://www.weespfoto.nl/agenda/item//98988'>https://weespfoto.nl/agenda/item//98988</a> || <p>Multi-sportdag
Wil jij kennismaken met multi-sport dagkampen, zonder dat je meteen een hele week bezig bent? Speciaal voor jou organiseert Sportivun een multi-sportdag. Een hele dag ben je alleen maar bezig met toffe dingen, zoals knotshockey of bubbelvoetbal. Beleef een dag vol sport, spel en plezier en ontdek wat een multi-sport dagkamp inhoudt.
</p>
DESCRIPTION:<a href='https://www.weespfoto.nl/agenda/item//98988'>https://www.weespfoto.nl/agenda/item//98988</a> || Multi-sportdag
Wil jij kennismaken met multi-sport dagkampen, zonder dat je meteen een hele week bezig bent? Speciaal voor jou organiseert Sportivun een multi-sportdag. Een hele dag ben je alleen maar bezig met toffe dingen, zoals knotshockey of bubbelvoetbal. Beleef een dag vol sport, spel en plezier en ontdek wat een multi-sport dagkamp inhoudt.

LAST-MODIFIED:20260423T112300Z
LOCATION:Sporthal De Lunet Amersfoortsestraatweg 16 1411hd Bussum
SEQUENCE:0
STATUS:CONFIRMED
SUMMARY:Sportdag Naarden
TRANSP:OPAQUE
END:VEVENT
END:VCALENDAR
