BEGIN:VCALENDAR
PRODID:-//PUBBLE//enter agenda//NL
VERSION:2.0
METHOD:PUBLISH
BEGIN:VEVENT
DTSTART:20180506T123000Z
DTEND:20180506T133000Z
DTSTAMP:20260421T160158Z
UID:349ebce2-f188-4e80-b092-4687fe2f4fdb
CREATED:20260421T160158Z
URL:https://www.weespfoto.nl/agenda/item/99089
NAME:Herdenkingsconcert Laren 2018 weespfoto.nl
X-WR-CALNAME:Herdenkingsconcert Laren 2018 weespfoto.nl
X-ALT-DESC;FMTTYPE=text/html:<a href='https://www.weespfoto.nl/agenda/item//99089'>https://weespfoto.nl/agenda/item//99089</a> || <p>Herdenkingsconcert Laren 2018
Thema Herdenken en vieren.

Op 4 mei herdenken wij de slachtoffers van de Tweede Wereldoorlog en andere militaire missies. We staan tegelijkertijd stil bij het overlijden van familieleden, vrienden en kennissen. Op Bevrijdingsdag vieren we in alle toonaarden de betekenis van vrede en vrijheid.
Voor de Stichting Koormuziek Laren zijn deze thema's een inspiratiebron voor een bijzonder concert, waarbij u van harte welkom bent. (Op 6 mei in de Ontmoetingskerk om 14:30 uur)
Voor u treedt op: Vocaal Ensemble Puur o.l.v. Paul Snoek, de sopraan Rosemary Carlton- Willis, de harpiste Aimée van Delden en de pianiste Annemieke Jussen.
Naast muziek die ons troost en helpt bij het herdenken is er ook feestelijke muziek te horen om het leven, de bevrijding en de vrede te vieren. Het concert wordt besloten met een medley van Vera Lynn, de sweetheart of the forces. Gratis kaarten zijn beschikbaar om 14:00 aan de kerk. Na afloop is er een deurcollecte. Informatie: 06 1 222 95 40. 
</p>
DESCRIPTION:<a href='https://www.weespfoto.nl/agenda/item//99089'>https://www.weespfoto.nl/agenda/item//99089</a> || Herdenkingsconcert Laren 2018
Thema Herdenken en vieren.

Op 4 mei herdenken wij de slachtoffers van de Tweede Wereldoorlog en andere militaire missies. We staan tegelijkertijd stil bij het overlijden van familieleden, vrienden en kennissen. Op Bevrijdingsdag vieren we in alle toonaarden de betekenis van vrede en vrijheid.
Voor de Stichting Koormuziek Laren zijn deze thema's een inspiratiebron voor een bijzonder concert, waarbij u van harte welkom bent. (Op 6 mei in de Ontmoetingskerk om 14:30 uur)
Voor u treedt op: Vocaal Ensemble Puur o.l.v. Paul Snoek, de sopraan Rosemary Carlton- Willis, de harpiste Aimée van Delden en de pianiste Annemieke Jussen.
Naast muziek die ons troost en helpt bij het herdenken is er ook feestelijke muziek te horen om het leven, de bevrijding en de vrede te vieren. Het concert wordt besloten met een medley van Vera Lynn, de sweetheart of the forces. Gratis kaarten zijn beschikbaar om 14:00 aan de kerk. Na afloop is er een deurcollecte. Informatie: 06 1 222 95 40. 

LAST-MODIFIED:20260421T160158Z
LOCATION:Ontmoetingskerk Kerklaan 41 1251JS Laren
SEQUENCE:0
STATUS:CONFIRMED
SUMMARY:Herdenkingsconcert Laren 2018
TRANSP:OPAQUE
END:VEVENT
END:VCALENDAR
