BEGIN:VCALENDAR
PRODID:-//PUBBLE//enter agenda//NL
VERSION:2.0
METHOD:PUBLISH
BEGIN:VEVENT
DTSTART:20180508T220000Z
DTEND:20180509T210000Z
DTSTAMP:20260422T123818Z
UID:d3055c79-d97c-4ce9-8448-b215cff416fa
CREATED:20260422T123818Z
URL:https://www.weespfoto.nl/agenda/item/99118
NAME:fietstocht Archeologie Vecht en Venen weespfoto.nl
X-WR-CALNAME:fietstocht Archeologie Vecht en Venen weespfoto.nl
X-ALT-DESC;FMTTYPE=text/html:<a href='https://www.weespfoto.nl/agenda/item//99118'>https://weespfoto.nl/agenda/item//99118</a> || <p>Het Fietsgilde rijdt op woensdag 9 mei een dagtocht. Vertrek om 10.00 uur vanaf de Kerkbrink, Museum Hilversum. Deze fietstocht, met als thema Archeologie tussen Vecht en venen, geeft een beeld van de bewoningsgeschiedenis van dit gebied. Hier vinden we de natte archeologie, archeologie waarbij het water een grote rol speelt. Mede door ingrijpen van de mens is dit landschap erg veranderd en allerlei sporen van bewoning kan men nog terugvinden. De tocht voert langs &#39;s-Graveland, Het huis te Ankeveen, legakkers en petgaten, Hinderdam, Nigtevecht en Weesp, de verdwenen buitenplaats Petersburg, de Aetveldse polder, Keveren en de Fransche Kamp.</p>

DESCRIPTION:<a href='https://www.weespfoto.nl/agenda/item//99118'>https://www.weespfoto.nl/agenda/item//99118</a> || Het Fietsgilde rijdt op woensdag 9 mei een dagtocht. Vertrek om 10.00 uur vanaf de Kerkbrink, Museum Hilversum. Deze fietstocht, met als thema Archeologie tussen Vecht en venen, geeft een beeld van de bewoningsgeschiedenis van dit gebied. Hier vinden we de natte archeologie, archeologie waarbij het water een grote rol speelt. Mede door ingrijpen van de mens is dit landschap erg veranderd en allerlei sporen van bewoning kan men nog terugvinden. De tocht voert langs 's-Graveland, Het huis te Ankeveen, legakkers en petgaten, Hinderdam, Nigtevecht en Weesp, de verdwenen buitenplaats Petersburg, de Aetveldse polder, Keveren en de Fransche Kamp.

LAST-MODIFIED:20260422T123818Z
LOCATION:Museum Hilversum Kerkbrink 6 1211bx Hilversum
SEQUENCE:0
STATUS:CONFIRMED
SUMMARY:fietstocht Archeologie Vecht en Venen
TRANSP:OPAQUE
END:VEVENT
END:VCALENDAR
