BEGIN:VCALENDAR
PRODID:-//PUBBLE//enter agenda//NL
VERSION:2.0
METHOD:PUBLISH
BEGIN:VEVENT
DTSTART:20180512T080000Z
DTEND:20180512T140000Z
DTSTAMP:20260424T000104Z
UID:3ac50a96-c732-4b2a-a971-996ac928c7ac
CREATED:20260424T000104Z
URL:https://www.weespfoto.nl/agenda/item/99119
NAME:Fietstocht langs molens aan de Vecht weespfoto.nl
X-WR-CALNAME:Fietstocht langs molens aan de Vecht weespfoto.nl
X-ALT-DESC;FMTTYPE=text/html:<a href='https://www.weespfoto.nl/agenda/item//99119'>https://weespfoto.nl/agenda/item//99119</a> || <p>Fietsgilde &#39;t Gooi rijdt tijdens het &acute;Nationale Molenweekend&quot; op zaterdag 12 mei een dagtocht langs een aantal karakteristieke polder- en korenmolens aan de Vecht. Vertrek is om 10.00 uur vanaf de Kerkbrink in Hilversum (Museum). U dient zelf zorg te dragen voor een lunchpakket. Deelname aan de tochten van Fietsgilde &#39;t Gooi kost &euro; 3.00 p.p.. Voor meer informatie over de tochten van Fietsgilde &#39;t Gooi, zie www.fietsgilde.nl</p>

DESCRIPTION:<a href='https://www.weespfoto.nl/agenda/item//99119'>https://www.weespfoto.nl/agenda/item//99119</a> || Fietsgilde 't Gooi rijdt tijdens het ´Nationale Molenweekend" op zaterdag 12 mei een dagtocht langs een aantal karakteristieke polder- en korenmolens aan de Vecht. Vertrek is om 10.00 uur vanaf de Kerkbrink in Hilversum (Museum). U dient zelf zorg te dragen voor een lunchpakket. Deelname aan de tochten van Fietsgilde 't Gooi kost € 3.00 p.p.. Voor meer informatie over de tochten van Fietsgilde 't Gooi, zie www.fietsgilde.nl

LAST-MODIFIED:20260424T000104Z
LOCATION:Museum Hilversum Kerkbrink 6 1211bx Hilversum
SEQUENCE:0
STATUS:CONFIRMED
SUMMARY:Fietstocht langs molens aan de Vecht
TRANSP:OPAQUE
END:VEVENT
END:VCALENDAR
