BEGIN:VCALENDAR
PRODID:-//PUBBLE//enter agenda//NL
VERSION:2.0
METHOD:PUBLISH
BEGIN:VEVENT
DTSTART:20180513T113000Z
DTEND:20180513T140000Z
DTSTAMP:20260424T232916Z
UID:4da72847-1710-4e40-89e2-99babccf5e43
CREATED:20260424T232916Z
URL:https://www.weespfoto.nl/agenda/item/99120
NAME:Fietstocht over de Natuurbruggen weespfoto.nl
X-WR-CALNAME:Fietstocht over de Natuurbruggen weespfoto.nl
X-ALT-DESC;FMTTYPE=text/html:<a href='https://www.weespfoto.nl/agenda/item//99120'>https://weespfoto.nl/agenda/item//99120</a> || <p>Fietsgilde 't Gooi rijdt op zondag 13 mei de middagtocht 'Natuurbruggen', vertrek om 13.30 uur vanaf de Kerkbrink Hilversum (Museum). De tocht gaat over de natuurbrug "Zanderij Crailoo", het grootste ecoduct ter wereld en over de nieuwere natuurbrug "Laarderhoogt". De bruggen verbinden diverse natuurgebieden van de Utrechtse Heuvelrug. De gids geeft daar uitleg over.
Deelname aan de tochten van Fietsgilde 't Gooi kost € 3.00 p.p.. Voor meer informatie over de tochten van Fietsgilde 't Gooi, zie www.fietsgilde.nl</p>
DESCRIPTION:<a href='https://www.weespfoto.nl/agenda/item//99120'>https://www.weespfoto.nl/agenda/item//99120</a> || Fietsgilde 't Gooi rijdt op zondag 13 mei de middagtocht 'Natuurbruggen', vertrek om 13.30 uur vanaf de Kerkbrink Hilversum (Museum). De tocht gaat over de natuurbrug "Zanderij Crailoo", het grootste ecoduct ter wereld en over de nieuwere natuurbrug "Laarderhoogt". De bruggen verbinden diverse natuurgebieden van de Utrechtse Heuvelrug. De gids geeft daar uitleg over.
Deelname aan de tochten van Fietsgilde 't Gooi kost € 3.00 p.p.. Voor meer informatie over de tochten van Fietsgilde 't Gooi, zie www.fietsgilde.nl
LAST-MODIFIED:20260424T232916Z
LOCATION:Museum Hilversum Kerkbrink 6 1211bx Hilversum
SEQUENCE:0
STATUS:CONFIRMED
SUMMARY:Fietstocht over de Natuurbruggen
TRANSP:OPAQUE
END:VEVENT
END:VCALENDAR
