BEGIN:VCALENDAR
PRODID:-//PUBBLE//enter agenda//NL
VERSION:2.0
METHOD:PUBLISH
BEGIN:VEVENT
DTSTART:20180512T100000Z
DTEND:20180512T140000Z
DTSTAMP:20260424T025517Z
UID:6d51f09c-6cab-401f-9031-6a1c0117d422
CREATED:20260424T025517Z
URL:https://www.weespfoto.nl/agenda/item/99135
NAME:Open dag jeugd Tafeltennisvereniging Huizen weespfoto.nl
X-WR-CALNAME:Open dag jeugd Tafeltennisvereniging Huizen weespfoto.nl
X-ALT-DESC;FMTTYPE=text/html:<a href='https://www.weespfoto.nl/agenda/item//99135'>https://weespfoto.nl/agenda/item//99135</a> || <p>Wil jij kennismaken met tafeltennis? Kom dan naar verenigingsgebouw ‘De Kloef’ van Tafeltennisvereniging Huizen in het Holleblok. Zorg dan wel voor gymkleding en gymschoenen (geen zwarte zolen). Deelname is gratis!</p>
DESCRIPTION:<a href='https://www.weespfoto.nl/agenda/item//99135'>https://www.weespfoto.nl/agenda/item//99135</a> || Wil jij kennismaken met tafeltennis? Kom dan naar verenigingsgebouw ‘De Kloef’ van Tafeltennisvereniging Huizen in het Holleblok. Zorg dan wel voor gymkleding en gymschoenen (geen zwarte zolen). Deelname is gratis!
LAST-MODIFIED:20260424T025517Z
LOCATION:Verenigingsgebouw De Kloef Holleblok 4D 1273EG Huizen
SEQUENCE:0
STATUS:CONFIRMED
SUMMARY:Open dag jeugd Tafeltennisvereniging Huizen
TRANSP:OPAQUE
END:VEVENT
END:VCALENDAR
