BEGIN:VCALENDAR
PRODID:-//PUBBLE//enter agenda//NL
VERSION:2.0
METHOD:PUBLISH
BEGIN:VEVENT
DTSTART:20180508T163000Z
DTEND:20180508T173000Z
DTSTAMP:20260422T075227Z
UID:a1948cac-b373-418a-96c2-8e5db7b497aa
CREATED:20260422T075227Z
URL:https://www.weespfoto.nl/agenda/item/99178
NAME:Hatha Yoga weespfoto.nl
X-WR-CALNAME:Hatha Yoga weespfoto.nl
X-ALT-DESC;FMTTYPE=text/html:<a href='https://www.weespfoto.nl/agenda/item//99178'>https://weespfoto.nl/agenda/item//99178</a> || <p>Heb je behoefte aan meer rust in je hoofd en souplesse in je lichaam? Kom dan voor een GRATIS proefles Hatha Yoga. Een fijne combinatie van inspannende en ontspannende houdingen, meditatie en ademhalingsoefeningen. Kleine groepen met veel persoonlijke aandacht.
Meld je aan bij: irene_van_es@hotmail.com</p>
DESCRIPTION:<a href='https://www.weespfoto.nl/agenda/item//99178'>https://www.weespfoto.nl/agenda/item//99178</a> || Heb je behoefte aan meer rust in je hoofd en souplesse in je lichaam? Kom dan voor een GRATIS proefles Hatha Yoga. Een fijne combinatie van inspannende en ontspannende houdingen, meditatie en ademhalingsoefeningen. Kleine groepen met veel persoonlijke aandacht.
Meld je aan bij: irene_van_es@hotmail.com
LAST-MODIFIED:20260422T075227Z
LOCATION:    
SEQUENCE:0
STATUS:CONFIRMED
SUMMARY:Hatha Yoga
TRANSP:OPAQUE
END:VEVENT
END:VCALENDAR
