BEGIN:VCALENDAR
PRODID:-//PUBBLE//enter agenda//NL
VERSION:2.0
METHOD:PUBLISH
BEGIN:VEVENT
DTSTART:20180512T120000Z
DTEND:20180512T130000Z
DTSTAMP:20260424T055646Z
UID:4a93ddf4-e615-4ece-ac17-bbcc7f01102f
CREATED:20260424T055646Z
URL:https://www.weespfoto.nl/agenda/item/99183
NAME:Moederdagactiviteit: maak de mooiste chocolade flikken weespfoto.nl
X-WR-CALNAME:Moederdagactiviteit: maak de mooiste chocolade flikken weespfoto.nl
X-ALT-DESC;FMTTYPE=text/html:<a href='https://www.weespfoto.nl/agenda/item//99183'>https://weespfoto.nl/agenda/item//99183</a> || <p>Idee voor moederdag: maak de mooiste chocolade flikken voor moeder of oma. Ja, probeer daar maar eens vanaf te blijven! Toeslag &euro; 2,- op de reguliere entreeprijs</p>

DESCRIPTION:<a href='https://www.weespfoto.nl/agenda/item//99183'>https://www.weespfoto.nl/agenda/item//99183</a> || Idee voor moederdag: maak de mooiste chocolade flikken voor moeder of oma. Ja, probeer daar maar eens vanaf te blijven! Toeslag € 2,- op de reguliere entreeprijs

LAST-MODIFIED:20260424T055646Z
LOCATION:Museum Weesp, Nieuwstraat 41 Nieuwstraat 41 1381bd Weesp
SEQUENCE:0
STATUS:CONFIRMED
SUMMARY:Moederdagactiviteit: maak de mooiste chocolade flikken
TRANSP:OPAQUE
END:VEVENT
END:VCALENDAR
