BEGIN:VCALENDAR
PRODID:-//PUBBLE//enter agenda//NL
VERSION:2.0
METHOD:PUBLISH
BEGIN:VEVENT
DTSTART:20180506T113000Z
DTEND:20180506T140000Z
DTSTAMP:20260421T125039Z
UID:b6e4eba6-147e-4900-a86b-649a21e8e28b
CREATED:20260421T125039Z
URL:https://www.weespfoto.nl/agenda/item/99184
NAME:Country middag Noorderlicht weespfoto.nl
X-WR-CALNAME:Country middag Noorderlicht weespfoto.nl
X-ALT-DESC;FMTTYPE=text/html:<a href='https://www.weespfoto.nl/agenda/item//99184'>https://weespfoto.nl/agenda/item//99184</a> || <p>Op zondag 6 mei is er in het Noorderlicht een Country middag.
Zanger Folkert zal allerlei country liedjes zingen i.s.m. DJ. Wil.
€ 4,00 inclusief koffie/thee. Informatie: 06 - 245.283.17
 </p>
DESCRIPTION:<a href='https://www.weespfoto.nl/agenda/item//99184'>https://www.weespfoto.nl/agenda/item//99184</a> || Op zondag 6 mei is er in het Noorderlicht een Country middag.
Zanger Folkert zal allerlei country liedjes zingen i.s.m. DJ. Wil.
€ 4,00 inclusief koffie/thee. Informatie: 06 - 245.283.17
 
LAST-MODIFIED:20260421T125039Z
LOCATION:Het Noorderlicht Gruttoplein 2 1113hm Diemen
SEQUENCE:0
STATUS:CONFIRMED
SUMMARY:Country middag Noorderlicht
TRANSP:OPAQUE
END:VEVENT
END:VCALENDAR
