BEGIN:VCALENDAR
PRODID:-//PUBBLE//enter agenda//NL
VERSION:2.0
METHOD:PUBLISH
BEGIN:VEVENT
DTSTART:20180513T120000Z
DTEND:20180513T130000Z
DTSTAMP:20260425T010541Z
UID:0825f6ea-1d26-4863-9829-ca16b721a1da
CREATED:20260425T010541Z
URL:https://www.weespfoto.nl/agenda/item/99248
NAME:Rododendronrondleiding weespfoto.nl
X-WR-CALNAME:Rododendronrondleiding weespfoto.nl
X-ALT-DESC;FMTTYPE=text/html:<a href='https://www.weespfoto.nl/agenda/item//99248'>https://weespfoto.nl/agenda/item//99248</a> || <p>Rododendronrondleiding zondag 13 mei om 14.00 uur Traditioneel kunt u op Moederdag genieten van een speciale rondleiding langs de bloeiende rododendroncollectie in het Pinetum. De rododendroncollectie van het Pinetum bestaat uit ca. 250 verschillende botanische soorten, waarvan het zwaartepunt van de bloei ligt in de periode vanaf half april tot half mei. Er valt dus genoeg te genieten van kleur .</p>

DESCRIPTION:<a href='https://www.weespfoto.nl/agenda/item//99248'>https://www.weespfoto.nl/agenda/item//99248</a> || Rododendronrondleiding zondag 13 mei om 14.00 uur Traditioneel kunt u op Moederdag genieten van een speciale rondleiding langs de bloeiende rododendroncollectie in het Pinetum. De rododendroncollectie van het Pinetum bestaat uit ca. 250 verschillende botanische soorten, waarvan het zwaartepunt van de bloei ligt in de periode vanaf half april tot half mei. Er valt dus genoeg te genieten van kleur .

LAST-MODIFIED:20260425T010541Z
LOCATION:Pinetum Blijdenstein Van der Lindenlaan 125 1217pk Hilversum
SEQUENCE:0
STATUS:CONFIRMED
SUMMARY:Rododendronrondleiding
TRANSP:OPAQUE
END:VEVENT
END:VCALENDAR
