BEGIN:VCALENDAR
PRODID:-//PUBBLE//enter agenda//NL
VERSION:2.0
METHOD:PUBLISH
BEGIN:VEVENT
DTSTART:20180507T120000Z
DTEND:20180507T140000Z
DTSTAMP:20260422T013335Z
UID:15ee8024-0d04-4fa5-a3f6-ed6ac2689058
CREATED:20260422T013335Z
URL:https://www.weespfoto.nl/agenda/item/99305
NAME:Culturele middag voor senioren  weespfoto.nl
X-WR-CALNAME:Culturele middag voor senioren  weespfoto.nl
X-ALT-DESC;FMTTYPE=text/html:<a href='https://www.weespfoto.nl/agenda/item//99305'>https://weespfoto.nl/agenda/item//99305</a> || <p>Elke eerste Maandag van de maand organiseert Versa Welzijn een culturele middag voor senioren. Maandag 7 mei is de middag gewijd aan de beroemde Hilversumse architekt Dudok. Leo Kerkhoff en Gijs Konings zullen hierover vertellen en tevens hun film "De Ziel in de Lijn" vertonen. Deze film gaat niet alleen over architektuur maar vooral over de droom, de visie en de inhoud van deze stedenbouwer, architekt en ideoloog met een groot hart.
Entreeprijs € 5,-- inklusief koffie/thee in de pauze.
Aanmelding vooraf per telefoon 06 49 37 71 71 of per mail 
abijleveld@versawelzijn.nl</p>
DESCRIPTION:<a href='https://www.weespfoto.nl/agenda/item//99305'>https://www.weespfoto.nl/agenda/item//99305</a> || Elke eerste Maandag van de maand organiseert Versa Welzijn een culturele middag voor senioren. Maandag 7 mei is de middag gewijd aan de beroemde Hilversumse architekt Dudok. Leo Kerkhoff en Gijs Konings zullen hierover vertellen en tevens hun film "De Ziel in de Lijn" vertonen. Deze film gaat niet alleen over architektuur maar vooral over de droom, de visie en de inhoud van deze stedenbouwer, architekt en ideoloog met een groot hart.
Entreeprijs € 5,-- inklusief koffie/thee in de pauze.
Aanmelding vooraf per telefoon 06 49 37 71 71 of per mail 
abijleveld@versawelzijn.nl
LAST-MODIFIED:20260422T013335Z
LOCATION:Brinkhuis Brink 29 1251kt Laren
SEQUENCE:0
STATUS:CONFIRMED
SUMMARY:Culturele middag voor senioren 
TRANSP:OPAQUE
END:VEVENT
END:VCALENDAR
