BEGIN:VCALENDAR
PRODID:-//PUBBLE//enter agenda//NL
VERSION:2.0
METHOD:PUBLISH
BEGIN:VEVENT
DTSTART:20180510T070000Z
DTEND:20180510T093000Z
DTSTAMP:20260422T212500Z
UID:802ca629-fc73-43e6-b62a-a6fb8ba1fa1e
CREATED:20260422T212500Z
URL:https://www.weespfoto.nl/agenda/item/99406
NAME:Oecumenisch "dauwtrappen" weespfoto.nl
X-WR-CALNAME:Oecumenisch "dauwtrappen" weespfoto.nl
X-ALT-DESC;FMTTYPE=text/html:<a href='https://www.weespfoto.nl/agenda/item//99406'>https://weespfoto.nl/agenda/item//99406</a> || <p>Hemelvaartsdag donderdag 10 mei 2018 Oecumenisch &quot; Dauwtrappen&quot; : Verzamelen om 08.45 uur op het kerkplein van de St.Petrus&#39; Banden We vertrekken om 09.00 uur voor een bezinnende wandeling van ruim een uur -deze is rolstoeltoegankelijk- Aansluitend is er een korte openluchtviering in de tuin van de Ontmoeting, rond 10.30 uur. Rolstoelen en scootmobielen kunnen daar komen via de ingang achter &quot;Elsina&quot; Iedereen is van harte welkom!</p>

DESCRIPTION:<a href='https://www.weespfoto.nl/agenda/item//99406'>https://www.weespfoto.nl/agenda/item//99406</a> || Hemelvaartsdag donderdag 10 mei 2018 Oecumenisch " Dauwtrappen" : Verzamelen om 08.45 uur op het kerkplein van de St.Petrus' Banden We vertrekken om 09.00 uur voor een bezinnende wandeling van ruim een uur -deze is rolstoeltoegankelijk- Aansluitend is er een korte openluchtviering in de tuin van de Ontmoeting, rond 10.30 uur. Rolstoelen en scootmobielen kunnen daar komen via de ingang achter "Elsina" Iedereen is van harte welkom!

LAST-MODIFIED:20260422T212500Z
LOCATION:De Ontmoeting Schoolstraat 8 - 10 1111br Diemen
SEQUENCE:0
STATUS:CONFIRMED
SUMMARY:Oecumenisch "dauwtrappen"
TRANSP:OPAQUE
END:VEVENT
END:VCALENDAR
