BEGIN:VCALENDAR
PRODID:-//PUBBLE//enter agenda//NL
VERSION:2.0
METHOD:PUBLISH
BEGIN:VEVENT
DTSTART:20180509T123000Z
DTEND:20180509T141500Z
DTSTAMP:20260422T164635Z
UID:3c8ecb66-6fc9-46b5-b785-360635b8e638
CREATED:20260422T164635Z
URL:https://www.weespfoto.nl/agenda/item/99503
NAME:Film aan de Brink - Hampstead weespfoto.nl
X-WR-CALNAME:Film aan de Brink - Hampstead weespfoto.nl
X-ALT-DESC;FMTTYPE=text/html:<a href='https://www.weespfoto.nl/agenda/item//99503'>https://weespfoto.nl/agenda/item//99503</a> || <p>Verenigd Koninkrijk, 2017, Drama/Romantiek, 102 minuten.  
Regie: Joel Hopkins.

Met: Diane Keaton, Brendan Gleeson en James Norton.

De Amerikaanse Emily Walters woont aan de rand van het Londense park Hampstead Heath. Na de dood van haar man lukt het maar niet om de draad weer op te pakken, ondanks de hulp van haar zoon Philip. De ontmoeting met Donald, een dakloze man die in Hampstead Heath in een zelfgebouwd huisje woont, geeft haar leven een verrassende wending.

‘Hampstead’ is losjes gebaseerd op het waargebeurde verhaal van dakloze Harry Hallowes. Voor het filmscript verzon scenarioschrijver Robert Festinger de weduwe Emily erbij.

Aanvang: 14.30 uur.
Entree: € 5,00.

De kaartjes voor theater- en filmvoorstellingen  zijn online te bestellen via het ticketformulier op onze website.
Indien u hier niet uitkomt dan kunt u op de dag van de voorstelling – vanaf een uur voor het begin van de voorstelling – uw kaartje(s) via pinbetaling aan de balie kopen.</p>
DESCRIPTION:<a href='https://www.weespfoto.nl/agenda/item//99503'>https://www.weespfoto.nl/agenda/item//99503</a> || Verenigd Koninkrijk, 2017, Drama/Romantiek, 102 minuten.  
Regie: Joel Hopkins.

Met: Diane Keaton, Brendan Gleeson en James Norton.

De Amerikaanse Emily Walters woont aan de rand van het Londense park Hampstead Heath. Na de dood van haar man lukt het maar niet om de draad weer op te pakken, ondanks de hulp van haar zoon Philip. De ontmoeting met Donald, een dakloze man die in Hampstead Heath in een zelfgebouwd huisje woont, geeft haar leven een verrassende wending.

‘Hampstead’ is losjes gebaseerd op het waargebeurde verhaal van dakloze Harry Hallowes. Voor het filmscript verzon scenarioschrijver Robert Festinger de weduwe Emily erbij.

Aanvang: 14.30 uur.
Entree: € 5,00.

De kaartjes voor theater- en filmvoorstellingen  zijn online te bestellen via het ticketformulier op onze website.
Indien u hier niet uitkomt dan kunt u op de dag van de voorstelling – vanaf een uur voor het begin van de voorstelling – uw kaartje(s) via pinbetaling aan de balie kopen.
LAST-MODIFIED:20260422T164635Z
LOCATION:Brinkhuis Brink 29 1251kt Laren
SEQUENCE:0
STATUS:CONFIRMED
SUMMARY:Film aan de Brink - Hampstead
TRANSP:OPAQUE
END:VEVENT
END:VCALENDAR
