BEGIN:VCALENDAR
PRODID:-//PUBBLE//enter agenda//NL
VERSION:2.0
METHOD:PUBLISH
BEGIN:VEVENT
DTSTART:20180509T173000Z
DTEND:20180509T191500Z
DTSTAMP:20260422T182109Z
UID:a59659ee-c3ee-4408-83c8-15c6f13a88fe
CREATED:20260422T182109Z
URL:https://www.weespfoto.nl/agenda/item/99506
NAME:Film aan de Brink - Borg/McEnroe weespfoto.nl
X-WR-CALNAME:Film aan de Brink - Borg/McEnroe weespfoto.nl
X-ALT-DESC;FMTTYPE=text/html:<a href='https://www.weespfoto.nl/agenda/item//99506'>https://weespfoto.nl/agenda/item//99506</a> || <p>Zweden/Denemarken/Finland, 2017, Drama/Sport, 107 minuten.
Regie: Janus Metz Pedersen.

Met: Shia LaBeouf, Sverrir Gudnason en Stellan Skarsgård.

Het verhaal volgt de rivaliteit tussen de tennissterren Bjorn Borg en John McEnroe, in de jaren zeventig en tachtig. Beide spelers stonden bekend als technisch begaafde tennissers. Maar waar Borg koel en bijna emotieloos op de baan stond, was McEnroe het enfant terrible van de tenniswereld. Hun rivaliteit kende zijn hoogtepunt met de legendarische Wimbledon-finale van 1980.

Aanvang: 19.30 uur.
Entree: € 5,00.

De kaartjes voor theater- en filmvoorstellingen  zijn online te bestellen via het ticketformulier op onze website.
Indien u hier niet uitkomt dan kunt u op de dag van de voorstelling – vanaf een uur voor het begin van de voorstelling – uw kaartje(s) via pinbetaling aan de balie kopen.</p>
DESCRIPTION:<a href='https://www.weespfoto.nl/agenda/item//99506'>https://www.weespfoto.nl/agenda/item//99506</a> || Zweden/Denemarken/Finland, 2017, Drama/Sport, 107 minuten.
Regie: Janus Metz Pedersen.

Met: Shia LaBeouf, Sverrir Gudnason en Stellan Skarsgård.

Het verhaal volgt de rivaliteit tussen de tennissterren Bjorn Borg en John McEnroe, in de jaren zeventig en tachtig. Beide spelers stonden bekend als technisch begaafde tennissers. Maar waar Borg koel en bijna emotieloos op de baan stond, was McEnroe het enfant terrible van de tenniswereld. Hun rivaliteit kende zijn hoogtepunt met de legendarische Wimbledon-finale van 1980.

Aanvang: 19.30 uur.
Entree: € 5,00.

De kaartjes voor theater- en filmvoorstellingen  zijn online te bestellen via het ticketformulier op onze website.
Indien u hier niet uitkomt dan kunt u op de dag van de voorstelling – vanaf een uur voor het begin van de voorstelling – uw kaartje(s) via pinbetaling aan de balie kopen.
LAST-MODIFIED:20260422T182109Z
LOCATION:Brinkhuis Brink 29 1251kt Laren
SEQUENCE:0
STATUS:CONFIRMED
SUMMARY:Film aan de Brink - Borg/McEnroe
TRANSP:OPAQUE
END:VEVENT
END:VCALENDAR
