BEGIN:VCALENDAR
PRODID:-//PUBBLE//enter agenda//NL
VERSION:2.0
METHOD:PUBLISH
BEGIN:VEVENT
DTSTART:20180506T130000Z
DTEND:20180506T160000Z
DTSTAMP:20260421T172304Z
UID:6f913cbc-5d8d-4176-8441-b83b98c5e7f9
CREATED:20260421T172304Z
URL:https://www.weespfoto.nl/agenda/item/99523
NAME:Jarig Eemjazz in 'Vernissage', Bussum weespfoto.nl
X-WR-CALNAME:Jarig Eemjazz in 'Vernissage', Bussum weespfoto.nl
X-ALT-DESC;FMTTYPE=text/html:<a href='https://www.weespfoto.nl/agenda/item//99523'>https://weespfoto.nl/agenda/item//99523</a> || <p>Kom zondag 6 mei, op een 'Lazy Birthday Afternoon', luisteren naar - dansen mag natuurlijk ook - het (37) jarige Eemjazz in het sfeervolle Vernissage/Fort Werk IV, Dr. Abraham Kuyperlaan 1a (grenst aan 'Spant') 1402 SB  Bussum.
Het goed ingespeelde kwintet brengt dan met aanstekelijk enthousiasme en bescheiden decibels een breed repertoire van swing, ballads, latin en een greep uit 100 jaar hitvoorraad. Denk aan 'Johnny Is The Boy For Me', 'Only You', 'C'Est Formidable', 'When', 'Blueberry Hill' etc. etc.
Daarvoor zorgen Peter Ivan (cornet, bugel, fluitje!), Frits Armbrust (klarinet, saxen), Hansje Armbrust (gitaar, zang), Hans Rombouts (bas) en Peter den Boer (slagwerk, zang, presentatie).

Geen house, geen Strauss, geen stress: Eemjazz zondagmiddag 6 mei van drie tot zes uur in Vernissage/Fort Werk IV, Dr. Abraham Kuyperlaan 1a, 1402 SB  Bussum (035-6916788, www.vernissage.nl , Eemjazz: 035-5410249, www.eemjazz.nl).
</p>
DESCRIPTION:<a href='https://www.weespfoto.nl/agenda/item//99523'>https://www.weespfoto.nl/agenda/item//99523</a> || Kom zondag 6 mei, op een 'Lazy Birthday Afternoon', luisteren naar - dansen mag natuurlijk ook - het (37) jarige Eemjazz in het sfeervolle Vernissage/Fort Werk IV, Dr. Abraham Kuyperlaan 1a (grenst aan 'Spant') 1402 SB  Bussum.
Het goed ingespeelde kwintet brengt dan met aanstekelijk enthousiasme en bescheiden decibels een breed repertoire van swing, ballads, latin en een greep uit 100 jaar hitvoorraad. Denk aan 'Johnny Is The Boy For Me', 'Only You', 'C'Est Formidable', 'When', 'Blueberry Hill' etc. etc.
Daarvoor zorgen Peter Ivan (cornet, bugel, fluitje!), Frits Armbrust (klarinet, saxen), Hansje Armbrust (gitaar, zang), Hans Rombouts (bas) en Peter den Boer (slagwerk, zang, presentatie).

Geen house, geen Strauss, geen stress: Eemjazz zondagmiddag 6 mei van drie tot zes uur in Vernissage/Fort Werk IV, Dr. Abraham Kuyperlaan 1a, 1402 SB  Bussum (035-6916788, www.vernissage.nl , Eemjazz: 035-5410249, www.eemjazz.nl).

LAST-MODIFIED:20260421T172304Z
LOCATION:Vernissage/Fort Werk IV dr. Abraham Kuyperlaan 1a 1402sb Bussum
SEQUENCE:0
STATUS:CONFIRMED
SUMMARY:Jarig Eemjazz in 'Vernissage', Bussum
TRANSP:OPAQUE
END:VEVENT
END:VCALENDAR
