BEGIN:VCALENDAR
PRODID:-//PUBBLE//enter agenda//NL
VERSION:2.0
METHOD:PUBLISH
BEGIN:VEVENT
DTSTART:20180511T173000Z
DTEND:20180511T210000Z
DTSTAMP:20260423T175836Z
UID:b76f6d70-e13b-4e03-ac69-e0f2d9df13d9
CREATED:20260423T175836Z
URL:https://www.weespfoto.nl/agenda/item/99553
NAME:JUBAL Muziekavond weespfoto.nl
X-WR-CALNAME:JUBAL Muziekavond weespfoto.nl
X-ALT-DESC;FMTTYPE=text/html:<a href='https://www.weespfoto.nl/agenda/item//99553'>https://weespfoto.nl/agenda/item//99553</a> || <p>Op deze Jubal Muziekavond komen de finalisten van de afgelopen Jubal Muziekprijs nog een keer spelen voor publiek met een uitgebreider repertoire. Iedere deelnemer verzorgt een kwartier. De deelnemers zijn: Aedan Hamminga (zang), Jannes Ganzevoort (gitaar), Darre Macrander (piano), Lotus Lynn Tholen (piano), Noa Boisson (drums) en Boris Ganzevoort (drums). De toegang is gratis, maar vanwege het aantal plaatsen dienen tickets vooraf te worden gereserveerd via theaterpandweesp.nl.</p>

DESCRIPTION:<a href='https://www.weespfoto.nl/agenda/item//99553'>https://www.weespfoto.nl/agenda/item//99553</a> || Op deze Jubal Muziekavond komen de finalisten van de afgelopen Jubal Muziekprijs nog een keer spelen voor publiek met een uitgebreider repertoire. Iedere deelnemer verzorgt een kwartier. De deelnemers zijn: Aedan Hamminga (zang), Jannes Ganzevoort (gitaar), Darre Macrander (piano), Lotus Lynn Tholen (piano), Noa Boisson (drums) en Boris Ganzevoort (drums). De toegang is gratis, maar vanwege het aantal plaatsen dienen tickets vooraf te worden gereserveerd via theaterpandweesp.nl.

LAST-MODIFIED:20260423T175836Z
LOCATION:    
SEQUENCE:0
STATUS:CONFIRMED
SUMMARY:JUBAL Muziekavond
TRANSP:OPAQUE
END:VEVENT
END:VCALENDAR
