BEGIN:VCALENDAR
PRODID:-//PUBBLE//enter agenda//NL
VERSION:2.0
METHOD:PUBLISH
BEGIN:VEVENT
DTSTART:20180512T090000Z
DTEND:20180513T150000Z
DTSTAMP:20260424T013152Z
UID:220c071e-b98e-43bc-b70c-8c00263d1912
CREATED:20260424T013152Z
URL:https://www.weespfoto.nl/agenda/item/99560
NAME:Expositie schilderijen Emilie Lindenbergh weespfoto.nl
X-WR-CALNAME:Expositie schilderijen Emilie Lindenbergh weespfoto.nl
X-ALT-DESC;FMTTYPE=text/html:<a href='https://www.weespfoto.nl/agenda/item//99560'>https://weespfoto.nl/agenda/item//99560</a> || <p>De schilderijen gaan over ruimte. De echo’s in ruimtes van wat geweest is, wat plaatsvindt, en wat komen gaat.
Met de losse toets geeft Lindenbergh in figuratieve schilderijen met acrylverf in heel dunne lagen, vooral de essentie van het gebeuren weer. Sfeervolle weergaves van het moment zelf.
Lindenbergh is ook docent tekenen en schilderen en geeft cursussen en workshops in het atelier achter het Brinkhuis in Laren en geeft meerdaagse schilderworkshops op plaatsen in Nederland waar schilderkolonies zijn geweest. Ze heeft een samenwerkingsverband met het Singermuseum.
Website: www.emilielindenbergh.com 

</p>
DESCRIPTION:<a href='https://www.weespfoto.nl/agenda/item//99560'>https://www.weespfoto.nl/agenda/item//99560</a> || De schilderijen gaan over ruimte. De echo’s in ruimtes van wat geweest is, wat plaatsvindt, en wat komen gaat.
Met de losse toets geeft Lindenbergh in figuratieve schilderijen met acrylverf in heel dunne lagen, vooral de essentie van het gebeuren weer. Sfeervolle weergaves van het moment zelf.
Lindenbergh is ook docent tekenen en schilderen en geeft cursussen en workshops in het atelier achter het Brinkhuis in Laren en geeft meerdaagse schilderworkshops op plaatsen in Nederland waar schilderkolonies zijn geweest. Ze heeft een samenwerkingsverband met het Singermuseum.
Website: www.emilielindenbergh.com 


LAST-MODIFIED:20260424T013152Z
LOCATION:    
SEQUENCE:0
STATUS:CONFIRMED
SUMMARY:Expositie schilderijen Emilie Lindenbergh
TRANSP:OPAQUE
END:VEVENT
END:VCALENDAR
